BEGIN:VCALENDAR
VERSION:2.0
PRODID:-//ChamberMaster//Event Calendar 2.0//EN
METHOD:PUBLISH
X-PUBLISHED-TTL:P3D
REFRESH-INTERVAL:P3D
CALSCALE:GREGORIAN
BEGIN:VEVENT
DTSTART:20240709T153000Z
DTEND:20240710T030000Z
X-MICROSOFT-CDO-ALLDAYEVENT:FALSE
SUMMARY:11th Anniversary Party at The Salted Rim
DESCRIPTION:The Salted Rim Margarita Bar & Grille \n\n11th Anniversary Party\n\nTuesday\, July 9th\n\nParty All Day & Night\n\n \n\nHappy Hour \n\nFood & Drink Specials\n\nALL DAY & NIGHT!!\n\n \n\nFood Specials\n\nWings (8) - $12\n\nCheeseburger Sliders (2) - $12\n\nPulled Pork Sliders (2) - $12\n\nSteamed Shrimp 1/2 lb - $12\n\nGiant Pretzel - $12\n\nBeef or Chicken Tacos - $7 ea\n\nShrimp or Fish Tacos - $8 ea\n\nFish Fingers - $8\n\n\\Mini Nachos Grande - $9\n\nadd:  Beef\, Pulled Chicken or Pork +5\n\nMini Tuna Nachos - $12\n\n\n\nDrink Specials\n\nMargaritas (house non-frozen) - $7\n\nCrushes - $7\n\nOrange\, Grapefruit\, Lemon\, Lime\, Creamsicle\, House bourbon\, House Tequila\n\nDomestic Drafts - $4\n\nDomestic Bottles/Cans - $4.25\n\nCraft Drafts or Bottles - $5\n\nRail Drinks -$5\n\nWine - $6\n\n6oz. - House - Chardonnay\, Pinot Grigio\, Sauvignon Blanc\, Merlot\, Cabernet\, White Zinfandel\n\n \n\nEntertainment\n\n5-9pm    DJ "Denny"
X-ALT-DESC;FMTTYPE=text/html:<div style="text-align:center"><span style="font-size:14px"><span style="font-family:arial"><span style="font-size:18px"><strong><span style="color:#0000FF">The Salted Rim Margarita Bar &amp\; Grille&nbsp\;</span><br />\n<span style="color:#FF0000"><span style="font-size:20px">11th Anniversary Party</span></span></strong></span></span></span><br />\n<span style="font-size:16px"><span style="font-family:arial"><span style="color:#000000"><em>Tuesday\, July 9th</em></span><br />\n<strong><span style="color:#66cc33">Party All Day &amp\; Night</span></strong></span></span><br />\n&nbsp\;</div>\n\n<p style="text-align: center\;"><em><span style="color:#0000FF"><span style="font-size:26px"><strong><span style="font-size:22px"><span style="background-color:#FFFFFF">Happy Hour </span></span><br />\n<span style="font-size:22px"><span style="background-color:#FFFFFF">Food &amp\; Drink Specials</span><br />\n<span style="background-color:#FFFFFF">ALL DAY &amp\; NIGHT!!</span></span></strong></span></span></em><br />\n&nbsp\;</p>\n\n<div style="text-align: center\;"><span style="font-size:16px"><u><span style="color:#FF0000"><span style="font-family:comic sans ms"><strong>Food Specials</strong></span></span></u><br />\nWings (8) - $12<br />\nCheeseburger Sliders (2) - $12<br />\nPulled Pork Sliders (2) - $12<br />\nSteamed Shrimp 1/2 lb - $12<br />\nGiant Pretzel - $12<br />\nBeef or Chicken Tacos - $7 ea<br />\nShrimp or Fish Tacos - $8 ea<br />\nFish Fingers - $8<br />\n\\Mini Nachos Grande - $9<br />\n<span style="font-size:12px">add:&nbsp\; Beef\, Pulled Chicken or Pork +5<br />\n<span style="font-size:16px">Mini Tuna Nachos - $12<br />\n<br />\n<u><span style="color:#FF0000"><strong><span style="font-family:comic sans ms">Drink Specials</span></strong></span></u><br />\nMargaritas&nbsp\;<span style="font-size:12px">(house non-frozen)&nbsp\;<span style="font-size:16px">- $7<br />\nCrushes - $7<br />\n<span style="font-size:12px">Orange\, Grapefruit\, Lemon\, Lime\, Creamsicle\, House bourbon\, House Tequila<br />\n<span style="font-size:16px">Domestic Drafts - $4<br />\nDomestic Bottles/Cans - $4.25</span></span></span></span><br />\nCraft Drafts or Bottles - $5<br />\nRail Drinks -$5<br />\nWine - $6<br />\n<span style="font-size:12px">6oz. - House - Chardonnay\, Pinot Grigio\, Sauvignon Blanc\, Merlot\, Cabernet\, White Zinfandel</span></span></span></span><br />\n&nbsp\;</div>\n\n<div style="text-align: center\;"><span style="font-size:16px"><span style="color:#FF0000"><span style="font-family:comic sans ms"><u><strong>Entertainment</strong></u></span></span><br />\n<span style="font-family:comic sans ms"><span style="font-size:14px">5-9pm</span></span></span>&nbsp\;&nbsp\;&nbsp\;<strong>&nbsp\;DJ &quot\;Denny&quot\;</strong></div>\n\n<div><br />\n&nbsp\;</div>\n
LOCATION:The Salted Rim 35553 Atlantic Ave. Millville\, DE 19967 302-537-7373
UID:e.2126.30394
SEQUENCE:3
DTSTAMP:20260420T040818Z
URL:https://business.bethany-fenwick.org/events/details/11th-anniversary-party-at-the-salted-rim-30394
END:VEVENT

END:VCALENDAR
