BEGIN:VCALENDAR
VERSION:2.0
PRODID:-//ChamberMaster//Event Calendar 2.0//EN
METHOD:PUBLISH
X-PUBLISHED-TTL:P3D
REFRESH-INTERVAL:P3D
CALSCALE:GREGORIAN
BEGIN:VEVENT
DTSTART:20211009T130000Z
DTEND:20211009T190000Z
X-MICROSOFT-CDO-ALLDAYEVENT:FALSE
SUMMARY:13th Annual Artisan's Festival
DESCRIPTION:Join the Bethany Beach Volunteer Fire Company and the Bethany Beach Volunteer Fire Company Auxiliary on Saturday\, October 9\, for their 13th Annual Artisan's Festival. The event will occur from 9:00 am - 3:00 pm. The event will feature over 40 artisan's with a wide variety of mediums.
X-ALT-DESC;FMTTYPE=text/html:<span style="font-family:arial\;"><span style="font-size:14px\;">Join the Bethany Beach Volunteer Fire Company and the Bethany Beach Volunteer Fire Company Auxiliary on Saturday\, October 9\, for their 13th Annual Artisan&#39\;s Festival. The event will occur from 9:00 am - 3:00 pm. The event will feature over 40 artisan&#39\;s with a wide variety of mediums.</span></span>
LOCATION:Bethany Beach
UID:e.2126.22969
SEQUENCE:3
DTSTAMP:20260424T131825Z
URL:https://business.bethany-fenwick.org/events/details/13th-annual-artisan-s-festival-22969
END:VEVENT

END:VCALENDAR
