BEGIN:VCALENDAR
VERSION:2.0
PRODID:-//ChamberMaster//Event Calendar 2.0//EN
METHOD:PUBLISH
X-PUBLISHED-TTL:P3D
REFRESH-INTERVAL:P3D
CALSCALE:GREGORIAN
BEGIN:VEVENT
DTSTART:20221203T170000Z
DTEND:20230127T010000Z
X-MICROSOFT-CDO-ALLDAYEVENT:FALSE
SUMMARY:1st Annual Festival of Trees-Millville Boardwalk
DESCRIPTION:1st Annual Festival of Trees & The Lodge\n\nat Millville Boardwalk\n\nOpen December\, January\, February\n\n \n12/3 Toys for Tots Drive & Tree Decorating Party\n\nBring a new unwrapped toy and get a round of golf and $10 worth of arcade tokens\n\nLive carolers\, Tree and Light show\, Meet Santa\n\n*To sponsor a tree: click to the site or send email\n\n\n\nThe Lodge at Millville Boardwalk-December to February\n\nJoin us in our cozy escape at our covered pavilion! \n\nSoft seating\, heat towers\, blankets\, and faux animal rugs!\n\nMovies and retro board games & special seasonal menu all season at the Lodge\n\n\n\nDon't forget about Agape Creamery\, Beach Enchanted Mini Golf\, and the Arcade!
X-ALT-DESC;FMTTYPE=text/html:<div style="text-align: center\;"><span style="font-size:14px\;"><span style="font-family:arial\;"><strong>1st Annual Festival of Trees &amp\; The Lodge<br />\nat Millville Boardwalk</strong></span></span></div>\n\n<div style="text-align: center\;"><span style="font-size:14px\;"><span style="font-family:arial\;">Open December\, January\, February</span></span><br />\n&nbsp\;</div>\n<span style="font-size:14px\;"><span style="font-family:arial\;"><strong><u>12/3 Toys for Tots Drive &amp\; Tree Decorating Party</u></strong><br />\nBring a new unwrapped toy and get a round of golf and $10 worth of arcade tokens<br />\nLive carolers\, Tree and Light show\, Meet Santa<br />\n<strong><em>*To sponsor a tree: click to the site or send email</em></strong></span></span><br />\n<br />\n<span style="font-size:14px\;"><span style="font-family:arial\;"><strong><u>The Lodge at Millville Boardwalk-December to February</u></strong><br />\nJoin us in our cozy escape at our covered pavilion!&nbsp\;<br />\nSoft seating\, heat towers\, blankets\, and faux animal rugs!<br />\nMovies and retro board games &amp\; special seasonal menu all season at the Lodge<br />\n<br />\n<strong>Don&#39\;t forget about Agape Creamery\, Beach Enchanted Mini Golf\, and the Arcade!</strong></span></span>
LOCATION:The Millville Boardwalk 35287 Atlantic Ave Millville\, DE 19967
UID:e.2126.24861
SEQUENCE:3
DTSTAMP:20260421T105420Z
URL:https://business.bethany-fenwick.org/events/details/1st-annual-festival-of-trees-millville-boardwalk-24861
END:VEVENT

END:VCALENDAR
