BEGIN:VCALENDAR
VERSION:2.0
PRODID:-//ChamberMaster//Event Calendar 2.0//EN
METHOD:PUBLISH
X-PUBLISHED-TTL:P3D
REFRESH-INTERVAL:P3D
CALSCALE:GREGORIAN
BEGIN:VEVENT
DTSTART:20250525T170000Z
DTEND:20250525T190000Z
X-MICROSOFT-CDO-ALLDAYEVENT:FALSE
SUMMARY:1st Choice Properties Open House
DESCRIPTION:1st Choice Properties will be hosting an Open House at this Coastal Style townhome located in the Bear Trap Dunes Community on Sunday May 25th\, 1-3 p.m.
X-ALT-DESC;FMTTYPE=text/html:<br />\n1st Choice Properties will be hosting an Open House at this Coastal Style townhome located in the Bear Trap Dunes Community on Sunday May 25th\, 1-3 p.m.<br />\n<br />\n&nbsp\;
LOCATION:
UID:e.2126.38641
SEQUENCE:3
DTSTAMP:20260422T131018Z
URL:https://business.bethany-fenwick.org/events/details/1st-choice-properties-open-house-05-25-2025-38641
END:VEVENT

END:VCALENDAR
