BEGIN:VCALENDAR
VERSION:2.0
PRODID:-//ChamberMaster//Event Calendar 2.0//EN
METHOD:PUBLISH
X-PUBLISHED-TTL:P3D
REFRESH-INTERVAL:P3D
CALSCALE:GREGORIAN
BEGIN:VEVENT
DTSTART:20210224T170000Z
DTEND:20210401T030000Z
X-MICROSOFT-CDO-ALLDAYEVENT:FALSE
SUMMARY:2021 Coastal Sussex Career & Job Fair BUSINESS APPLICATION
DESCRIPTION:The 2021 Coastal Sussex Career & Job Fair hosted by the Bethany-Fenwick Area Chamber of Commerce will be held virtually on April 14\, 2021\, from 7:00am  to 7:00pm.\n\n\n\nWhether your business is interested in recruiting  for seasonal and part-time jobs\, semi-retired or retired adults looking for part-time employment\, or seeking full-time career opportunities in Coastal Sussex County Delaware.  The 2021 Coastal Sussex Career & Job Fair seeks to connect job candidates interested in seasonal and part-time jobs\, volunteer and internship opportunities\, or full-time careers with the Coastal Sussex business community.\n\n\n\nBusinesses and non-profits who are hiring can participate by registering on-line. The cost to participate for Bethany-Fenwick Area Chamber of Commerce members is $50.00 \, for non-member organizations the cost is $150.00.\n\n\n\nWhat do participating businesses receive ?\n\n	Virtual booth dedicated to your business/organization includes logo and listing on event site. (Logo provided by participant)\n	Ability to post all open positions.\n	Ability to accept on-line applications and resumes from jobseekers.\n	Ability to "virtually staff" your booth during a predetermined time frame to video or text chat with candidates\n	Training and support from BFACC staff and virtual job fair platform   Easy Virtual Fair\n\n  The Job Fair booth will be open for candidate registrations for up to 30 days prior to and post event.\n\nThe Bethany-Fenwick Area Chamber will provide marketing via social media\, print and radio advertising \, as well a direct reach to local area high schools\, community colleges and universities.\n\n\n\nThe last day for business registration is March 31\, 2021.
X-ALT-DESC;FMTTYPE=text/html:<br />\n<br />\n<span style="font-size:14px\;"><span style="font-family:arial\;">The 2021 Coastal Sussex Career &amp\; Job Fair hosted by the Bethany-Fenwick Area Chamber of Commerce will be held virtually on April 14\, 2021\, from&nbsp\;7:00am&nbsp\; to 7:00pm.</span><br />\n<br />\n<span style="font-family:arial\;"><span style="background:white\;"><span style="color:#333333\;">Whether your business is interested in recruiting&nbsp\; for seasonal and part-time jobs\, semi-retired or retired adults looking for part-time employment\, or seeking full-time career opportunities in Coastal Sussex County Delaware.&nbsp\;</span></span><span background-color:="" font-size:="" style="color: rgb(51\, 51\, 51)\; font-family: sans-serif\, Arial\, Verdana\, " trebuchet="">&nbsp\;</span><span background:="" font-size:="" style="color: rgb(51\, 51\, 51)\; font-family: sans-serif\, Arial\, Verdana\, " trebuchet="">The 2021 Coastal Sussex Career &amp\; Job Fair seeks to connect job candidates interested in seasonal and part-time jobs\, volunteer and internship opportunities\, or full-time careers with the Coastal Sussex business community.</span><br />\n<br />\nBusinesses and non-profits who are hiring can participate by registering on-line. The cost to participate for Bethany-Fenwick Area Chamber of Commerce members is $50.00 \, for non-member organizations the cost is $150.00.<br />\n<br />\nWhat do participating businesses receive ?</span></span>\n<ul>\n	<li><span style="font-size:14px\;"><span style="font-family:arial\;">Virtual booth dedicated to your business/organization includes logo and listing on event site. (Logo provided by participant)</span></span></li>\n	<li><span style="font-size:14px\;"><span style="font-family:arial\;">Ability to post all open positions.</span></span></li>\n	<li><span style="font-size:14px\;"><span style="font-family:arial\;">Ability to accept on-line applications and resumes from jobseekers.</span></span></li>\n	<li><span style="font-size:14px\;"><span style="font-family:arial\;">Ability to &ldquo\;virtually staff&rdquo\; your booth during a predetermined time frame to video or text chat with candidates</span></span></li>\n	<li><span style="font-size:14px\;"><span style="font-family:arial\;">Training and support from BFACC staff and virtual job fair platform &ndash\; Easy Virtual Fair</span></span></li>\n</ul>\n<span style="font-size:14px\;"> <span style="font-family:arial\;"> The Job Fair booth will be open for candidate registrations for up to 30 days prior to and post event.<br />\nThe Bethany-Fenwick Area Chamber will provide marketing via social media\, print and radio advertising \, as well a direct reach to local area high schools\, community colleges and universities.</span></span><br />\n<br />\n<strong>The last day for business registration is March 31\, 2021.</strong>
LOCATION:Virtual
UID:e.2126.21909
SEQUENCE:3
DTSTAMP:20260425T013248Z
URL:https://business.bethany-fenwick.org/events/details/2021-coastal-sussex-career-job-fair-business-application-21909
END:VEVENT

END:VCALENDAR
