BEGIN:VCALENDAR
VERSION:2.0
PRODID:-//ChamberMaster//Event Calendar 2.0//EN
METHOD:PUBLISH
X-PUBLISHED-TTL:P3D
REFRESH-INTERVAL:P3D
CALSCALE:GREGORIAN
BEGIN:VEVENT
DTSTART:20220313T160000Z
DTEND:20220313T190000Z
X-MICROSOFT-CDO-ALLDAYEVENT:FALSE
SUMMARY:2022 Delaware Wedding Show
DESCRIPTION:Join us to explore the area's most favorable wedding planners\, florists\, photographers\, and so much more for brides and grooms to plan their big day.
X-ALT-DESC;FMTTYPE=text/html:Join us to explore the area&#39\;s most favorable wedding planners\, florists\, photographers\, and so much more for brides and grooms to plan their big day.
LOCATION:Embassy Suites by Hilton 654 S College Avenue Newark\, DE
UID:e.2126.23520
SEQUENCE:3
DTSTAMP:20260424T052035Z
URL:https://business.bethany-fenwick.org/events/details/2022-delaware-wedding-show-23520
END:VEVENT

END:VCALENDAR
