BEGIN:VCALENDAR
VERSION:2.0
PRODID:-//ChamberMaster//Event Calendar 2.0//EN
METHOD:PUBLISH
X-PUBLISHED-TTL:P3D
REFRESH-INTERVAL:P3D
CALSCALE:GREGORIAN
BEGIN:VEVENT
DTSTART;VALUE=DATE:20260105
DTEND;VALUE=DATE:20260303
TRANSP:TRANSPARENT
X-MICROSOFT-CDO-ALLDAYEVENT:TRUE
SUMMARY:2026 Job Fair at Sussex Central High School - Business Application
DESCRIPTION:The 2026 Job Fair at Sussex Central High School is scheduled for Wednesday\, March 11\, 2026!  The event will be open to the public and held in the Sussex Central High School cafeteria from 5:00PM - 7:00PM.\n\n\n\nDiscounted early table registration will be offered from Monday\, January 5th\, through Sunday\, February 1st\, for $25.  The regular registration period will be open from February 2nd - March 2nd for a $50 fee.  Registration fees directly support the College and Career office at Sussex Central High School and help offset event advertising costs. Registration is for a table at the event -- you do not need to register by attendee if your busienss has more than one representative at one table!  If you would like more than one table\, please register two attendees.\n\n\n\nThe purpose of the Job Fair is to connect the business community to an available workforce in both the school and community at-large\, creating relationships and opportunities for all present.\n\n\n\nParticipating Businesses are responsible for:\n\n\n	\n	Set-up\, tear down and staffing their booth. Booth must be tended to at all times during the event. If member is conducting on-site interviews\, a second employee is required to be present to tend to the booth.\n	\n	\n	Provide recruiting materials\, brochures\, giveaways and employment applications.\n	\n	\n	Set-up will be from 4pm to 4:45pm. No exceptions!\n	\n	\n	If conducting on site interviews\, must allow for pre-registration of interview slots.\n	\n\n\n \n\nSussex Central High School is responsible for:\n\n\n	\n	Student scheduling and communication.\n	\n	\n	Providing space\, table\, and 2 chairs per business.\n	\n\n\n \n\n\n\n\nEarly Career Experience/Co-Op Requirements\n\n\n	\n	Students must have a job that coincides with their pathway in order to earn credit.\n	\n	\n	Co-op is only available to seniors. \n	\n	\n	Students must have earned at least 18 credits towards graduation by the end of their junior year.\n	\n	\n	Student must pass all courses to remain eligible for co-op.\n	\n	\n	If student is terminated\, student may be removed from the co-op program.
X-ALT-DESC;FMTTYPE=text/html:<p><span style="font-size:14px\;"><span style="color:#000000\;">The 2026 Job Fair at Sussex Central High School is scheduled for Wednesday\, March 11\, 2026!&nbsp\; The event will be open to the public and held in the Sussex Central High School cafeteria from 5:00PM - 7:00PM.<br />\n<br />\nDiscounted early table registration will be offered from Monday\, January 5th\, through Sunday\, February 1st\, for $25.&nbsp\; The regular registration period will be open from February 2nd - March 2nd for a $50 fee.&nbsp\; Registration fees directly support the College and Career office at Sussex Central High School and help offset event advertising costs.&nbsp\;</span><strong style="color: rgb(0\, 0\, 0)\; font-family: arial\; font-size: 14px\;">Registration is for a table at the event -- you do not need to register by attendee if your busienss has more than one representative at one table!&nbsp\; If you would like more than one table\, please register two attendees.</strong><br />\n<br />\n<span style="color:#000000\;">The purpose of the Job Fair is to connect the business community to an available workforce in both the school and community at-large\, creating relationships and opportunities for all present.<br />\n<br />\nParticipating Businesses are responsible for:</span></span></p>\n\n<ul>\n	<li style="margin:0px 0px 10.66px\;color:rgb(0\, 0\, 0)\;line-height:107%\;font-family:Century Gothic\,sans-serif\;font-size:12pt\;font-style:normal\;font-weight:400\;">\n	<p><span style="font-size:14px\;"><span style="color:#000000\;">Set-up\, tear down and staffing their booth. Booth must be tended to at all times during the event. If member is conducting on-site interviews\, a second employee is required to be present to tend to the booth.</span></span></p>\n	</li>\n	<li style="margin:0px 0px 10.66px\;color:rgb(0\, 0\, 0)\;line-height:107%\;font-family:Century Gothic\,sans-serif\;font-size:12pt\;font-style:normal\;font-weight:400\;">\n	<p><span style="font-size:14px\;"><span style="color:#000000\;">Provide recruiting materials\, brochures\, giveaways and employment applications.</span></span></p>\n	</li>\n	<li style="margin:0px 0px 10.66px\;color:rgb(0\, 0\, 0)\;line-height:107%\;font-family:Century Gothic\,sans-serif\;font-size:12pt\;font-style:normal\;font-weight:400\;">\n	<p><span style="font-size:14px\;"><span style="color:#000000\;">Set-up will be from 4pm&nbsp\;to 4:45pm. No exceptions!</span></span></p>\n	</li>\n	<li style="margin:0px 0px 10.66px\;color:rgb(0\, 0\, 0)\;line-height:107%\;font-family:Century Gothic\,sans-serif\;font-size:12pt\;font-style:normal\;font-weight:400\;">\n	<p><span style="font-size:14px\;"><span style="color:#000000\;">If conducting on site interviews\, must allow for pre-registration of interview slots.</span></span></p>\n	</li>\n</ul>\n\n<p><span style="font-size:14px\;"><span style="color:#000000\;">&nbsp\;<br />\nSussex Central High School is responsible for:</span></span></p>\n\n<ul>\n	<li style="margin:0px 0px 10.66px\;color:rgb(0\, 0\, 0)\;line-height:107%\;font-family:Century Gothic\,sans-serif\;font-size:12pt\;font-style:normal\;font-weight:400\;">\n	<p><span style="font-size:14px\;"><span style="color:#000000\;">Student scheduling and communication.</span></span></p>\n	</li>\n	<li style="margin:0px 0px 10.66px\;color:rgb(0\, 0\, 0)\;line-height:107%\;font-family:Century Gothic\,sans-serif\;font-size:12pt\;font-style:normal\;font-weight:400\;">\n	<p><span style="font-size:14px\;"><span style="color:#000000\;">Providing space\, table\, and 2 chairs per business.</span></span></p>\n	</li>\n</ul>\n\n<p><span style="font-size:14px\;">&nbsp\;</span></p>\n\n<div style="margin: 0px 0px 10.66px\; color: rgb(0\, 0\, 0)\; line-height: 107%\; font-style: normal\; font-weight: 400\;">\n<p style="font-family: Calibri\, sans-serif\; font-size: 11pt\; color: rgb(36\, 36\, 36)\; margin: 0px\;"><br />\n<span style="font-size:14px\;"><span style="border: 0px\; font-style: inherit\; font-variant: inherit\; font-weight: inherit\; font-stretch: inherit\; line-height: inherit\; font-optical-sizing: inherit\; font-kerning: inherit\; font-feature-settings: inherit\; font-variation-settings: inherit\; margin: 0px\; padding: 0px\; vertical-align: baseline\; color: black\;">Early Career Experience/Co-Op Requirements</span></span></p>\n\n<ul style="">\n	<li 0px="" century="" color:="" font-size:="" line-height:="" margin:="" style="font-family: ">\n	<p><span style="font-size:14px\;">Students must have a job that coincides with their pathway in order to earn credit.</span></p>\n	</li>\n	<li style="margin: 0px 0px 10.66px\; color: rgb(0\, 0\, 0)\; line-height: 17.12px\;">\n	<p><span style="font-size:14px\;">Co-op is only available to seniors.&nbsp\;</span></p>\n	</li>\n	<li 0px="" century="" color:="" font-size:="" line-height:="" margin:="" style="font-family: ">\n	<p><span style="font-size:14px\;">Students must have earned at least 18 credits towards graduation by the end of their junior year.</span></p>\n	</li>\n	<li 0px="" century="" color:="" font-size:="" line-height:="" margin:="" style="font-family: ">\n	<p><span style="font-size:14px\;">Student must pass all courses to remain eligible for co-op.</span></p>\n	</li>\n	<li 0px="" century="" color:="" font-size:="" line-height:="" margin:="" style="font-family: ">\n	<p><span style="font-size:14px\;">If student is terminated\, student may be removed from the co-op program.</span></p>\n	</li>\n</ul>\n</div>\n
LOCATION:Sussex Central High School 26044 Patriots Way Georgetown\, DE 19947
UID:e.2126.42170
SEQUENCE:3
DTSTAMP:20260421T203238Z
URL:https://business.bethany-fenwick.org/events/details/2026-job-fair-at-sussex-central-high-school-business-application-42170
END:VEVENT

END:VCALENDAR
