BEGIN:VCALENDAR
VERSION:2.0
PRODID:-//ChamberMaster//Event Calendar 2.0//EN
METHOD:PUBLISH
X-PUBLISHED-TTL:P3D
REFRESH-INTERVAL:P3D
CALSCALE:GREGORIAN
BEGIN:VEVENT
DTSTART:20220703T233000Z
DTEND:20220704T010000Z
X-MICROSOFT-CDO-ALLDAYEVENT:FALSE
SUMMARY:287th Army Band
DESCRIPTION:The 287th Army Band provides music throughout the full spectrum of military operations and instills in its soldiers the will to fight and win\, fosters the support of its citizens\, and promotes its national interests at home and abroad. Dating back over 230 years to the Revolutionary War\, band members have always been an important part of the U.S. Army. Musical elements of the 287th Army Band include Ceremonial Band\, New Orleans Brass Band\, Rock Band\, Woodwind Quintet\, Brass Quintet\, Jazz Combo\, Sax Quintet\, and Concert Band. 287armyband.com
X-ALT-DESC;FMTTYPE=text/html:<p>The 287th Army Band provides music throughout the full spectrum of military operations and instills in its soldiers the will to fight and win\, fosters the support of its citizens\, and promotes its national interests at home and abroad. Dating back over 230 years to the Revolutionary War\, band members have always been an important part of the U.S. Army. Musical elements of the 287th Army Band include Ceremonial Band\, New Orleans Brass Band\, Rock Band\, Woodwind Quintet\, Brass Quintet\, Jazz Combo\, Sax Quintet\, and Concert Band. 287armyband.com<br />\n&nbsp\;</p>\n
LOCATION:Bethany Beach Bandstand Garfield Parkway & Boardwalk\, Bethany Beach
UID:e.2126.23758
SEQUENCE:3
DTSTAMP:20260421T223137Z
URL:https://business.bethany-fenwick.org/events/details/287th-army-band-07-03-2022-23758
END:VEVENT

END:VCALENDAR
