BEGIN:VCALENDAR
VERSION:2.0
PRODID:-//ChamberMaster//Event Calendar 2.0//EN
METHOD:PUBLISH
X-PUBLISHED-TTL:P3D
REFRESH-INTERVAL:P3D
CALSCALE:GREGORIAN
BEGIN:VEVENT
DTSTART:20230930T170000Z
DTEND:20230930T220000Z
X-MICROSOFT-CDO-ALLDAYEVENT:FALSE
SUMMARY:2nd Annual Bankstoberfest
DESCRIPTION:Welcome to the second annual Bankstoberfest at Evans Park\, in Millville\, DE.\n\nSaturday\, September 30th 1-6pm\n\nThere is no better time to learn about and taste some awesome beers with some local and foreign flavor\, than during the world festivities of Oktoberfest. We brought back our own version here to Sussex County. \n\nBankstoberfest is sure to excite and be a blast with 2 Live Bands\, Oompah band playing from 1-3pm and then Decade 80 from 4-6pm. Lots of fun activities\, like\, Axe Throwing\, Bocce Ball and Cornhole. A beer stein holding contest. And what goes best with beer? FOOD! There will be plenty of food for everyone.\n\nThere are four ticket types to choose 2 General Admission 1-3pm & 4-6pm\, all day VIP tickets\, and a ticket for your designated driver. Make sure to read each ticket description first before purchasing\, so you know what to expect and when.\n\nPlease remember this event is for adults\, 21 and over\, ONLY.
X-ALT-DESC;FMTTYPE=text/html:<p style="text-align:center">Welcome to the second annual Bankstoberfest at Evans Park\, in Millville\, DE.</p>\n\n<p style="text-align:center"><strong>Saturday\, September 30th 1-6pm</strong></p>\n\n<p style="text-align:center">There is no better&nbsp\;time to learn about and taste some awesome beers with some local and foreign flavor\,&nbsp\;than during the world festivities of Oktoberfest. We brought back our own version here to Sussex County.&nbsp\;</p>\n\n<p style="text-align:center">Bankstoberfest is sure to excite and be a blast with 2 Live Bands\, Oompah band playing from 1-3pm and then Decade 80 from 4-6pm. Lots of fun activities\, like\, Axe Throwing\, Bocce Ball and Cornhole. A beer stein holding contest. And what goes best with beer? FOOD! There will be plenty of food for everyone.</p>\n\n<p style="text-align:center">There are four&nbsp\;ticket types to choose 2 General Admission 1-3pm &amp\; 4-6pm\, all day VIP tickets\, and a ticket for your designated driver. Make sure to read each ticket description first before purchasing\, so you know what to expect and when.</p>\n\n<p style="text-align:center"><strong>Please remember this event is for adults\,&nbsp\;<span style="color:rgb(255\, 42\, 0)">21 and over\,&nbsp\;<span style="color:rgb(0\, 0\, 0)">ONLY.</span></span></strong></p>\n
LOCATION:Evans Park 32517 Dukes Dr Millville\, DE 19967
UID:e.2126.26649
SEQUENCE:3
DTSTAMP:20260420T211719Z
URL:https://business.bethany-fenwick.org/events/details/2nd-annual-bankstoberfest-26649
END:VEVENT

END:VCALENDAR
