BEGIN:VCALENDAR
VERSION:2.0
PRODID:-//ChamberMaster//Event Calendar 2.0//EN
METHOD:PUBLISH
X-PUBLISHED-TTL:P3D
REFRESH-INTERVAL:P3D
CALSCALE:GREGORIAN
BEGIN:VEVENT
DTSTART:20200911T130000Z
DTEND:20200911T210000Z
X-MICROSOFT-CDO-ALLDAYEVENT:FALSE
SUMMARY:2nd Annual Golf Scramble
DESCRIPTION:Join the Bethany Beach Volunteer Fire Company Auxiliary for the 2nd Annual Golf Scramble on Friday\, September 11. Tee time begins at 9:00 am\, please be there at 8:00 am.\n\n\n\nAll prices include green fees\, riding cart (mandatory)\, range balls\, and team prizes. Men's\, women's and mixed couples division to include golf skills events and boxed lunch. A complimentary continental breakfast provided by The Salt Pond and water will be provided. Please ensure you are wearing appropriate golf attire and spikes.\n\n\n\nYou can drop your payment off at the Pro Shop. Please pay by either cash or check. If paying by check\, please make payable to BBVFC Auxiliary and mail to BBVFC Auxiliary\, PO Box 301\, Bethany Beach\, DE 19930. Be sure to include your menu choice or contact Linda Smith at 302-616-1868 or Lsmith765@yahoo.com. Please register by Friday\, September 4. All proceeds benefit the Bethany Beach Volunteer Fire Company.\n\n\n\nLunch Menu Choices *All lunch choices come with a drink\, chips\, fruit & dessert\n\nChicken Salad Sandwich\n\nTuna Salad Sandwich\n\nHam & Cheese on Roll
X-ALT-DESC;FMTTYPE=text/html:<span style="font-family: arial\;"><span style="font-size: 14px\;">Join the Bethany Beach Volunteer Fire Company Auxiliary for the 2nd Annual Golf Scramble on Friday\, September 11. Tee time begins at 9:00 am\, please be there at 8:00 am.<br />\n<br />\nAll prices include green fees\, riding cart (mandatory)\, range balls\, and team prizes. Men&#39\;s\, women&#39\;s and mixed couples division to include golf skills events and boxed lunch. A complimentary continental breakfast provided by The Salt Pond and water will be provided. Please ensure you are wearing appropriate golf attire and spikes.<br />\n<br />\nYou can drop your payment off at the Pro Shop. Please pay by either cash or check. If paying by check\, please make payable to BBVFC Auxiliary and mail to BBVFC Auxiliary\, PO Box 301\, Bethany Beach\, DE 19930. Be sure to include your menu choice or contact Linda Smith at 302-616-1868 or <a href="mailto:Lsmith765@yahoo.com">Lsmith765@yahoo.com</a>. Please register by Friday\, September 4. All proceeds benefit the Bethany Beach Volunteer Fire Company.<br />\n<br />\nLunch Menu Choices *All lunch choices come with a drink\, chips\, fruit &amp\; dessert<br />\nChicken Salad Sandwich<br />\nTuna Salad Sandwich<br />\nHam &amp\; Cheese on Roll</span></span><br />\n&nbsp\;
LOCATION:The Salt Pond Golf Club 400 Bethany Loop Bethany Beach\, DE 19930
UID:e.2126.21708
SEQUENCE:3
DTSTAMP:20260425T142935Z
URL:https://business.bethany-fenwick.org/events/details/2nd-annual-golf-scramble-21708
END:VEVENT

END:VCALENDAR
