BEGIN:VCALENDAR
VERSION:2.0
PRODID:-//ChamberMaster//Event Calendar 2.0//EN
METHOD:PUBLISH
X-PUBLISHED-TTL:P3D
REFRESH-INTERVAL:P3D
CALSCALE:GREGORIAN
BEGIN:VEVENT
DTSTART:20230922T140000Z
DTEND:20230922T160000Z
X-MICROSOFT-CDO-ALLDAYEVENT:FALSE
SUMMARY:3 Season Container Garden: Fall\, Winter & Spring Surprise With Alison Webb
DESCRIPTION:Time to transform your summer pots into an autumnal display that will continue into winter and even contain flowers for early spring.\n\nBring your own pot at least 12 inches in diameter to provide enough root space for watering but not too big as it has to fit in your car once completed! You can purchase a pot at the garden center if you wish. Fill your pot with a unique combination of plants from our nursery. 10 % off all plants only used in the class.\n\nAlison Webb AIFD was inducted into the American Institute of Floral Designers (AIFD) in 1985 Upon retirement from the floral industry\, she moved to the Maryland/Delaware coast and has transitioned her floral love into plants\, particularly natives. She has worked with Inland Bays Garden Center for 5 years.\n\nClick here to get tickets!
X-ALT-DESC;FMTTYPE=text/html:<h5>Time to transform your summer pots into an autumnal display that will continue into winter and even contain flowers for early spring.</h5>\n\n<h5>Bring your own pot at least 12 inches in diameter to provide enough root space for watering but not too big as it has to fit in your car once completed! You can purchase a pot at the garden center if you wish. Fill your pot with a unique combination of plants from our nursery. 10 % off all plants only used in the class.</h5>\n\n<h5>Alison Webb AIFD was inducted into the American Institute of Floral Designers (AIFD) in 1985 Upon retirement from the floral industry\, she moved to the Maryland/Delaware coast and has transitioned her floral love into plants\, particularly natives. She has worked with Inland Bays Garden Center for 5 years.</h5>\n\n<h5><a href="https://www.eventbrite.com/e/690188230577?aff=oddtdtcreator" rel="noopener" style="box-sizing: border-box\; background-color: transparent\; border-bottom: 1px solid currentcolor\; text-decoration-line: none\; color: rgb(28\, 30\, 31) !important\;" target="_blank"><strong>Click here to get ticket</strong><strong>s!</strong></a></h5>\n
LOCATION:Inland Bays Garden Center 38320 Muddy Neck Rd\, Frankford\, DE\, 19945
UID:e.2126.26509
SEQUENCE:3
DTSTAMP:20260420T211823Z
URL:https://business.bethany-fenwick.org/events/details/3-season-container-garden-fall-winter-spring-surprise-with-alison-webb-26509
END:VEVENT

END:VCALENDAR
