BEGIN:VCALENDAR
VERSION:2.0
PRODID:-//ChamberMaster//Event Calendar 2.0//EN
METHOD:PUBLISH
X-PUBLISHED-TTL:P3D
REFRESH-INTERVAL:P3D
CALSCALE:GREGORIAN
BEGIN:VEVENT
DTSTART:20240201T223000Z
DTEND:20240201T233000Z
X-MICROSOFT-CDO-ALLDAYEVENT:FALSE
SUMMARY:3D Running Gait Analysis Workshop at Stride Physical Therapy and Wellness
DESCRIPTION:Whether you're an athlete aiming to improve your running efficiency or a fitness enthusiast looking to integrate advanced analysis into your training programs\, this workshop is your gateway to unlocking the full potential of your running stride.
X-ALT-DESC;FMTTYPE=text/html:<span style="color:rgb(5\, 5\, 5)\; font-family:segoe ui historic\,segoe ui\,helvetica\,arial\,sans-serif\; font-size:15px">Whether you&#39\;re an athlete aiming to improve your running efficiency or a fitness enthusiast looking to integrate advanced analysis into your training programs\, this workshop is your gateway to unlocking the full potential of your running stride.&nbsp\;</span>
LOCATION:Stride Physical Therapy and Wellness 35247 Atlantic Ave\, Unit 2 Millville\, DE 19967
UID:e.2126.27807
SEQUENCE:3
DTSTAMP:20260420T112702Z
URL:https://business.bethany-fenwick.org/events/details/3d-running-gait-analysis-workshop-at-stride-physical-therapy-and-wellness-27807
END:VEVENT

END:VCALENDAR
