BEGIN:VCALENDAR
VERSION:2.0
PRODID:-//ChamberMaster//Event Calendar 2.0//EN
METHOD:PUBLISH
X-PUBLISHED-TTL:P3D
REFRESH-INTERVAL:P3D
CALSCALE:GREGORIAN
BEGIN:VEVENT
DTSTART;VALUE=DATE:20230909
DTEND;VALUE=DATE:20230910
TRANSP:TRANSPARENT
X-MICROSOFT-CDO-ALLDAYEVENT:TRUE
SUMMARY:45th Annual Bethany Beach Boardwalk Arts Festival: Sponsorship Opportunities
DESCRIPTION:The commemorative 45th Annual Bethany Beach Boardwalk Arts Festival is taking place Saturday\, September 9\, 2023. Thousands of guests will be in attendance.  Please see below for available sponsorships. If you have any questions\, please contact Alyssa at events@thequietresorts.com.\n\n\n\n Sponsorship Opportunities\n\n	\n		\n			Presenting Sponsor ($4\,000)  - SOLD          \n		\n		\n			\n			\n				\n					\n						Press release announcing sponsorship\n\n						10  x 10  tented booth space in the highest traffic area for promotional materials and/or product samplings\n\n						Mentions in all media and event advertising as Presenting Sponsor in the mid-atlantic\n\n						-Marketing Time Frame: January   September\n\n						Company logo on all promotional items\n\n						Exposure on Radio Broadcast at event\n\n						Company logo on event banners hung at chamber\n\n						Company logo on event banners downtown Bethany Beach prior to event\n\n						Company logo and link on event website\n\n						Company logo on event Facebook page\n\n						Full page\, back cover advertisement in the festival program\n\n						Company logo on festival shopping bags\n\n						First right of refusal for 2023 sponsorship made with 180 days after event\n\n						Hold harmless agreement\n						\n						\n						\n					\n				\n			\n			\n		\n		\n			SUPPORTING SPONSOR ($2\,250)   SOLD\n		\n		\n			\n			\n				\n					\n						Press release announcing sponsorship\n\n						10  x 10  tented booth space in the highest traffic area for promotional materials and/or product samplings\n\n						Mentions in all media and event advertising as Supporting Sponsor \n\n						             -Marketing Time Frame: January   September\n\n						Exposure on Radio Broadcast at event\n\n						Company logo and link on event website\n\n						Company logo on event Facebook page\n\n						Full page advertisement in the festival program\n\n						Company logo on festival shopping bags\n\n						Hold harmless agreement\n						\n						\n						\n					\n				\n			\n			\n		\n		\n			MEDIA SPONSOR ($1\,500) - AVAILABLE\n		\n		\n			Mention as a "Media Sponsor" in all news releases for the event\n\n			Exposure on Live Radio Broadcast at event\n\n			12'x5' booth space at the event for distribution of promotional materials and/or product sampling\n\n			Half-page advertisement in the festival program\n\n			Logo and link on event web page\n\n			Sponsorship limited to one sponsor per category: newspaper\, magazine\, radio\, television\, etc.\n\n			Hold harmless agreement\n			\n			\n			\n		\n		\n			TRANSPORTATION SPONSOR ($1\,500) - AVAILABLE\n		\n		\n			Mention as a "Media Sponsor" in all news releases for the event\n\n			Exposure on Live Radio Broadcast at event\n\n			12'x5' booth space at the event for distribution of promotional materials and/or product sampling\n\n			Half-page advertisement in the festival program\n\n			Logo and link on event web page\n\n			Sponsorship limited to one sponsor per category: newspaper\, magazine\, radio\, television\, etc.\n\n			Hold harmless agreement\n			\n			\n			\n		\n		\n			FESTIVAL SPONSOR ($1\,000) - SEE BELOW FOR DETAILS\n		\n		\n			Press release announcing sponsorship\n\n			Mentions in all media and event advertising as Festival Sponsor \n\n			Exposure on Live Radio Broadcast at event\n\n			Company logo and link on event website\n\n			Company logo on event Facebook page\n\n			Half page advertisement in the festival program\n\n			Hold harmless agreement\n			\n				Wine Tasting/Dinner Option - SOLD\n				Children's Area - SOLD\n				Parkwood Entrance (10' x 10' Booth) - SOLD\n				Boardwalk Entrance (12' x 5' Booth) - AVAILABLE\n				Silent Auction - AVAILABLE\n				Local Student Spotlight Art Gallery  (Hollywood St.) - AVAILABLE\n			\n\n			\n			\n			\n		\n		\n			SHOPPING BAG SPONSOR ($500) - AVAILABLE\n		\n		\n			Quarter-page advertisement in the festival program\n\n			Company logo on bag handed out at event (qty. 1\,000)\n\n			One flat marketing piece to put in goodie bag\n\n			Hold harmless agreement
X-ALT-DESC;FMTTYPE=text/html:<div font-size:="" style="color: rgb(51\, 51\, 51)\; font-family: sans-serif\, Arial\, Verdana\, " trebuchet=""><span style="color:#333333\;"><span style="font-family:calibri light\,sans-serif\;">The commemorative 45th Annual Bethany Beach Boardwalk Arts Festival is taking place Saturday\, September 9\, 2023. Thousands of guests will be in attendance.&nbsp\; Please see below for available sponsorships. If you have any questions\, please contact Alyssa at events@thequietresorts.com.</span></span><br />\n<br />\n<span style="color:#333333\;"><span style="font-family:calibri light\,sans-serif\;"><strong><span style="background:white\;">&nbsp\;Sponsorship Opportunities</span></strong></span></span>\n<table border="1" cellpadding="0" cellspacing="1" style="width:500px\;border:outset 1.5pt\;" width="500">\n	<tbody>\n		<tr>\n			<td style="padding:.6pt .6pt .6pt .6pt\;"><strong><span style="color:#333333\;"><span style="font-family:calibri light\,sans-serif\;">Presenting Sponsor ($4\,000)</span></span></strong><span style="color:#333333\;"><span style="font-family:calibri light\,sans-serif\;">&nbsp\; -&nbsp\;</span></span><strong><span style="color:red\;"><span style="font-family:calibri light\,sans-serif\;">SOLD</span></span></strong>&nbsp\; &nbsp\; &nbsp\; &nbsp\; &nbsp\;&nbsp\;</td>\n		</tr>\n		<tr>\n			<td style="padding:.6pt .6pt .6pt .6pt\;">\n			<table border="0" cellpadding="0" cellspacing="0" style="width:693px\;border-collapse:collapse\;" width="693">\n				<tbody>\n					<tr style="height:223px\;">\n						<td style="width:639px\;border:none\;border-top:solid windowtext 1.0pt\;padding:0in 5.4pt 0in 5.4pt\;height:223px\;vertical-align:top\;"><span style="font-family:calibri light\,sans-serif\;">Press release announcing sponsorship<br />\n						10&prime\;&nbsp\;x 10&prime\;&nbsp\;tented booth space in the highest traffic area for promotional materials and/or product samplings<br />\n						Mentions in all media and event advertising as Presenting Sponsor in the mid-atlantic<br />\n						-Marketing Time Frame: January &ndash\; September<br />\n						Company logo on all promotional items<br />\n						Exposure on Radio Broadcast at event<br />\n						Company logo on event banners hung at chamber<br />\n						Company logo on event banners downtown Bethany Beach prior to event<br />\n						Company logo and link on event website<br />\n						Company logo on event Facebook page<br />\n						Full page\, back cover advertisement in the festival program<br />\n						Company logo on festival shopping bags<br />\n						First right of refusal for 2023 sponsorship made with 180 days after event<br />\n						Hold harmless agreement</span>\n						<div align="center" style="margin-bottom:0in\;text-align:center\;line-height:normal\;">\n						<hr align="center" size="2" width="100%" /></div>\n						</td>\n					</tr>\n				</tbody>\n			</table>\n			</td>\n		</tr>\n		<tr>\n			<td style="padding:.6pt .6pt .6pt .6pt\;"><strong><span style="color:#333333\;"><span style="font-family:calibri light\,sans-serif\;">SUPPORTING SPONSOR ($2\,250) &ndash\;&nbsp\;</span></span></strong><strong><span style="color:red\;"><span style="font-family:calibri light\,sans-serif\;">SOLD</span></span></strong></td>\n		</tr>\n		<tr>\n			<td style="padding:.6pt .6pt .6pt .6pt\;">\n			<table border="0" cellpadding="0" cellspacing="0" style="width:693px\;border-collapse:collapse\;" width="693">\n				<tbody>\n					<tr style="height:127px\;">\n						<td style="width:639px\;padding:0in 5.4pt 0in 5.4pt\;height:127px\;vertical-align:top\;"><span style="font-family:calibri light\,sans-serif\;">Press release announcing sponsorship<br />\n						10&prime\;&nbsp\;x 10&prime\;&nbsp\;tented booth space in the highest traffic area for promotional materials and/or product samplings<br />\n						Mentions in all media and event advertising as Supporting Sponsor&nbsp\;<br />\n						&nbsp\;&nbsp\;&nbsp\;&nbsp\;&nbsp\; &nbsp\;&nbsp\;&nbsp\;&nbsp\;&nbsp\;&nbsp\;&nbsp\;-Marketing Time Frame: January &ndash\; September<br />\n						Exposure on Radio Broadcast at event<br />\n						Company logo and link on event website<br />\n						Company logo on event Facebook page<br />\n						Full page advertisement in the festival program<br />\n						Company logo on festival shopping bags<br />\n						Hold harmless agreement</span>\n						<div align="center" style="margin-bottom:0in\;text-align:center\;line-height:normal\;">\n						<hr align="center" size="2" width="100%" /></div>\n						</td>\n					</tr>\n				</tbody>\n			</table>\n			</td>\n		</tr>\n		<tr>\n			<td style="padding:.6pt .6pt .6pt .6pt\;"><strong><span style="color:#333333\;"><span style="font-family:calibri light\,sans-serif\;">MEDIA SPONSOR ($1\,500) -&nbsp\;</span></span></strong><strong><span style="color:green\;"><span style="font-family:calibri light\,sans-serif\;">AVAILABLE</span></span></strong></td>\n		</tr>\n		<tr>\n			<td style="padding:.6pt .6pt .6pt .6pt\;"><span style="color:#333333\;"><span style="font-family:calibri light\,sans-serif\;">Mention as a &ldquo\;Media Sponsor&rdquo\; in all news releases for the event<br />\n			Exposure on Live Radio Broadcast at event<br />\n			12&rsquo\;x5&rsquo\; booth space at the event for distribution of promotional materials and/or product sampling<br />\n			Half-page advertisement in the festival program<br />\n			Logo and link on event web page<br />\n			Sponsorship limited to one sponsor per category: newspaper\, magazine\, radio\, television\, etc.<br />\n			Hold harmless agreement</span></span>\n			<div align="center" style="margin-bottom:0in\;text-align:center\;line-height:normal\;">\n			<hr align="center" size="2" width="100%" /></div>\n			</td>\n		</tr>\n		<tr>\n			<td style="padding:.6pt .6pt .6pt .6pt\;"><strong><span style="color:#333333\;"><span style="font-family:calibri light\,sans-serif\;">TRANSPORTATION SPONSOR ($1\,500) -&nbsp\;</span></span></strong><strong><span style="color:green\;"><span style="font-family:calibri light\,sans-serif\;">AVAILABLE</span></span></strong></td>\n		</tr>\n		<tr>\n			<td style="padding:.6pt .6pt .6pt .6pt\;"><span style="color:#333333\;"><span style="font-family:calibri light\,sans-serif\;">Mention as a &ldquo\;Media Sponsor&rdquo\; in all news releases for the event<br />\n			Exposure on Live Radio Broadcast at event<br />\n			12&rsquo\;x5&rsquo\; booth space at the event for distribution of promotional materials and/or product sampling<br />\n			Half-page advertisement in the festival program<br />\n			Logo and link on event web page<br />\n			Sponsorship limited to one sponsor per category: newspaper\, magazine\, radio\, television\, etc.<br />\n			Hold harmless agreement</span></span>\n			<div align="center" style="margin-bottom:0in\;text-align:center\;line-height:normal\;">\n			<hr align="center" size="2" width="100%" /></div>\n			</td>\n		</tr>\n		<tr>\n			<td style="padding:.6pt .6pt .6pt .6pt\;"><strong><span style="color:#333333\;"><span style="font-family:calibri light\,sans-serif\;">FESTIVAL SPONSOR ($1\,000) - SEE BELOW FOR DETAILS</span></span></strong></td>\n		</tr>\n		<tr>\n			<td style="padding:.6pt .6pt .6pt .6pt\;"><span style="color:#333333\;"><span style="font-family:calibri light\,sans-serif\;">Press release announcing sponsorship<br />\n			Mentions in all media and event advertising as Festival Sponsor&nbsp\;<br />\n			Exposure on Live Radio Broadcast at event<br />\n			Company logo and link on event website<br />\n			Company logo on event Facebook page<br />\n			Half page advertisement in the festival program<br />\n			Hold harmless agreement</span></span>\n			<ul>\n				<li style="color:#333333\;line-height:normal\;"><span style="font-family:calibri light\,sans-serif\;">Wine Tasting/Dinner Option&nbsp\;-&nbsp\;</span><strong><span style="color:red\;"><span style="font-family:calibri light\,sans-serif\;">SOLD</span></span></strong></li>\n				<li style="color:#333333\;line-height:normal\;"><span style="font-family:calibri light\,sans-serif\;">Children&#39\;s Area -&nbsp\;</span><strong><span style="color:red\;"><span style="font-family:calibri light\,sans-serif\;">SOLD</span></span></strong></li>\n				<li style="color:#333333\;line-height:normal\;"><span style="font-family:calibri light\,sans-serif\;">Parkwood Entrance (10&#39\; x 10&#39\; Booth) -&nbsp\;</span><strong><span style="color:red\;"><span style="font-family:calibri light\,sans-serif\;">SOLD</span></span></strong></li>\n				<li style="color:#333333\;line-height:normal\;"><span style="font-family:calibri light\,sans-serif\;">Boardwalk Entrance (12&#39\; x 5&#39\; Booth) -&nbsp\;</span><strong><span style="color:green\;"><span style="font-family:calibri light\,sans-serif\;">AVAILABLE</span></span></strong></li>\n				<li style="color:#333333\;line-height:normal\;"><span style="font-family:calibri light\,sans-serif\;">Silent Auction -&nbsp\;</span><strong><span style="color:green\;"><span style="font-family:calibri light\,sans-serif\;">AVAILABLE</span></span></strong></li>\n				<li style="color:#333333\;line-height:normal\;"><span style="font-family:calibri light\,sans-serif\;">Local Student Spotlight Art Gallery&nbsp\; (Hollywood St.) -&nbsp\;</span><strong><span style="color:green\;"><span style="font-family:calibri light\,sans-serif\;">AVAILABLE</span></span></strong></li>\n			</ul>\n\n			<div align="center" style="margin-bottom:0in\;text-align:center\;line-height:normal\;">\n			<hr align="center" size="2" width="100%" /></div>\n			</td>\n		</tr>\n		<tr>\n			<td style="padding:.6pt .6pt .6pt .6pt\;"><strong><span style="color:#333333\;"><span style="font-family:calibri light\,sans-serif\;">SHOPPING BAG SPONSOR ($500) -&nbsp\;</span></span></strong><strong style="color: rgb(51\, 51\, 51)\; font-family: sans-serif\, Arial\, Verdana\, &quot\;Trebuchet MS&quot\;\; font-size: 13px\; background-color: rgb(255\, 255\, 255)\;"><span style="color: green\;"><span style="font-family: &quot\;calibri light&quot\;\, sans-serif\;">AVAILABLE</span></span></strong></td>\n		</tr>\n		<tr>\n			<td style="padding:.6pt .6pt .6pt .6pt\;"><span style="color:#333333\;"><span style="font-family:calibri light\,sans-serif\;">Quarter-page advertisement in the festival program<br />\n			Company logo on bag handed out at event (qty. 1\,000)<br />\n			One flat marketing piece to put in goodie bag<br />\n			Hold harmless agreement</span></span></td>\n		</tr>\n	</tbody>\n</table>\n<br />\n&nbsp\;</div>\n
LOCATION:Downtown Bethany Beach
UID:e.2126.25855
SEQUENCE:3
DTSTAMP:20260420T212048Z
URL:https://business.bethany-fenwick.org/events/details/45th-annual-bethany-beach-boardwalk-arts-festival-sponsorship-opportunities-25855
END:VEVENT

END:VCALENDAR
