BEGIN:VCALENDAR
VERSION:2.0
PRODID:-//ChamberMaster//Event Calendar 2.0//EN
METHOD:PUBLISH
X-PUBLISHED-TTL:P3D
REFRESH-INTERVAL:P3D
CALSCALE:GREGORIAN
BEGIN:VEVENT
DTSTART:20211118T223000Z
DTEND:20211119T010000Z
X-MICROSOFT-CDO-ALLDAYEVENT:FALSE
SUMMARY:45th Member Celebration- Sapphire Soirée
DESCRIPTION:SOLD OUT! Please contact Angalyse at events@thequietresorts.com or call at 302-539-2100 extension 115 to be placed on the waiting list. \n\n\n\nJoin us for our 45th Anniversary of the Chamber Membership Celebration at Cripple Creek Country Club as we recognize the many amazing accomplishments and achievements of our Chamber members and businesses throughout the 2020 & 2021 calendar year! The ticketed event will take place on Thursday\, November 18th from 5:30 - 8:00 pm\, and will recognize our flagship Lighthouse Award Recipient\, outgoing board members and the Best of the Quiet Resort winners. Please come dressed in your best sapphire attire! \n\n\n\nIt's a Party - Toot Your Horn!\n\nThe Member Celebration will also highlight significant achievements\, anniversaries\, and accomplishments. If you have photos\, press releases\, or stories you'd like us to highlight at the event\, please contact Angalyse at events@thequietresorts.com. All RSVP's must be confirmed by November 10th.\n\nTickets for the event will go on sale on Friday\, October 8th.\n\n\nMenu\n\nHors D'oeuvres and Food Stations \n\nSlider Stations \n\nBurger sliders \n\nChicken Sliders \n\nAmber Ale Cod Sliders \n\n\n\nVegetable \n\nCheese and Fruit Display \n\nWith dipping sauce\, gourmet crackers and asiago toast points\n\n \n\nButler Hors d?oeuvres \n\nAsparagus and gruyere cheese puffs Glazed meatballs \n\nShrimp scoops  \n\nBrie and raspberry phyllo  \n\n\n\nCash Bar with full availability\n\nIced Tea\, Lemonade\, and soft drinks are available.\n\n \n\n\nAWARDS\n\nPlease vote here for your "Best of the Quiet Resorts!"\n\nVoting opened till Monday\, October 25th at 5 p.m\n\n\n\n	COMMUNITY SPIRIT AWARD: This award recognizes member business's by size that has demonstrated an exemplary commitment to the community\, above and beyond its business contributions throughout the year.\n\n\n \n\n\n	 BEST IN BUSINESS AWARD: Presented to a member business that provides high quality customer service above and beyond industry standards.\n\n	\n		Best In Business (Restaurant & Retail)\n		Best In Business (Real Estate & Construction)\n		Best In Business (Services)\n	\n	\n\n\n \n\n\n	MEMBER OF THE YEAR AWARD: Presented to the individual who has demonstrated the most dedication by his or her involvement in the Chamber throughout the year.\n\n\n \n\n\n	INSPIRING BUSINESS AWARD: Presented to a group or an individual who actively encourages and perpetuates business innovation\, freely shares ideas and opinions regarding business issues\, and is a catalyst for the future of business.\n\n\n \n\n\n	NEW MEMBER OF THE YEAR AWARD: Presented to a new Chamber member that immediately became active after joining\, whether through networking\, events\, volunteerism\, or otherwise. \n\n\nBecome an Event Sponsor\n\nIf you are interested in sponsoring the event\, see all sponsorship opportunities here\, and contact Event Manger Angalyse Keyock for more information.
X-ALT-DESC;FMTTYPE=text/html:<span style="font-size: 14px\;"><span style="font-family: arial\;"><span style="color:#FF0000\;"><strong>SOLD OUT! Please contact Angalyse at events@thequietresorts.com or call at 302-539-2100 extension 115 to be placed on the waiting list.&nbsp\;</strong></span><br />\n<br />\nJoin us for our 45th Anniversary of the Chamber Membership Celebration at Cripple Creek Country&nbsp\;Club&nbsp\;as we recognize the many amazing accomplishments and achievements of our Chamber members and businesses throughout the 2020 &amp\; 2021 calendar year! The ticketed event will take place on&nbsp\;<strong>Thursday\, November 18th from 5:30 - 8:00 pm</strong>\, and will recognize&nbsp\;our flagship <strong>Lighthouse Award Recipient\,</strong>&nbsp\;outgoing board members and the Best of the Quiet Resort winners. Please come dressed in your best sapphire attire!&nbsp\;<br />\n<br />\n<strong>It&#39\;s a Party - Toot Your Horn!</strong><br />\nThe Member Celebration will also highlight significant achievements\, anniversaries\, and accomplishments.<strong> If you have photos\, press releases\, or stories you&#39\;d like us to highlight at the event</strong>\, please contact Angalyse at events@thequietresorts.com.&nbsp\;All RSVP&#39\;s must be confirmed by November 10th.<br />\nTickets for the event will go on sale on Friday\, October 8th.</span></span>\n<div style="text-align: center\;"><br />\n<span style="font-size: 14px\;"><span style="font-family: arial\;"><strong>Menu</strong></span></span><br />\n<strong>Hors D&#39\;oeuvres and Food Stations&nbsp\;</strong><br />\nSlider Stations&nbsp\;<br />\nBurger sliders&nbsp\;<br />\nChicken Sliders&nbsp\;<br />\nAmber Ale Cod Sliders&nbsp\;<br />\n<br />\n<strong>Vegetable&nbsp\;</strong><br />\nCheese and Fruit Display&nbsp\;<br />\nWith dipping sauce\, gourmet crackers and asiago toast points<br />\n&nbsp\;<br />\n<strong>Butler Hors d?oeuvres&nbsp\;</strong><br />\nAsparagus and gruyere cheese puffs Glazed meatballs&nbsp\;<br />\nShrimp scoops&nbsp\;&nbsp\;<br />\nBrie and raspberry phyllo&nbsp\;&nbsp\;<br />\n<br />\nCash Bar with full availability<br />\nIced Tea\, Lemonade\, and soft drinks are available.</div>\n\n<div style="text-align: center\;">&nbsp\;</div>\n\n<div style="text-align: center\;">\n<div style="text-align: left\;"><strong><span style="font-size: 14px\;"><span style="font-family: arial\;">AWARDS<br />\nPlease vote <a href="https://www.surveymonkey.com/r/M3BZ92J">here </a>for your &quot\;Best of the Quiet Resorts!&quot\;<br />\n<span style="font-size:12px\;"><em>Voting opened till Monday\, October 25th at 5 p.m</em></span></span></span></strong></div>\n</div>\n\n<ul>\n	<li><span style="font-size: 14px\;"><span style="font-family: arial\;"><span style="color: rgb(0\, 0\, 128)\;"><strong>COMMUNITY SPIRIT AWARD</strong></span>:&nbsp\;<em>This award recognizes member business&#39\;s by size that has demonstrated an exemplary commitment to the community\, above and beyond its business contributions throughout the year.</em></span></span></li>\n</ul>\n\n<div>&nbsp\;</div>\n\n<ul>\n	<li><span style="font-size: 14px\;"><span style="font-family: arial\;">&nbsp\;<span style="color: rgb(0\, 0\, 128)\;"><strong>BEST IN BUSINESS AWARD</strong></span>:&nbsp\;<em>Presented to a member business that provides high quality customer service above and beyond industry standards.</em></span></span>\n\n	<ul>\n		<li><span style="font-size: 14px\;"><span style="font-family: arial\;"><em>Best In Business (Restaurant &amp\; Retail)</em></span></span></li>\n		<li><span style="font-size: 14px\;"><span style="font-family: arial\;"><em>Best In Business (Real Estate &amp\; Construction)</em></span></span></li>\n		<li><span style="font-size: 14px\;"><span style="font-family: arial\;"><em>Best In Business (Services)</em></span></span></li>\n	</ul>\n	</li>\n</ul>\n\n<div>&nbsp\;</div>\n\n<ul>\n	<li><span style="font-size: 14px\;"><span style="font-family: arial\;"><em><span style="color: rgb(0\, 0\, 128)\;"><strong>MEMBER OF THE YEAR AWARD</strong></span>:&nbsp\;<em>Presented to the individual who has demonstrated the most dedication by his or her involvement in the Chamber throughout the year.</em></em></span></span></li>\n</ul>\n\n<div>&nbsp\;</div>\n\n<ul>\n	<li><span style="font-size: 14px\;"><span style="font-family: arial\;"><em><em><span style="color: rgb(0\, 0\, 128)\;"><strong>INSPIRING BUSINESS AWARD</strong></span>:&nbsp\;<em>Presented to a group or an individual who actively encourages and perpetuates business innovation\, freely shares ideas and opinions regarding business issues\, and is a catalyst for the future of business.</em></em></em></span></span></li>\n</ul>\n\n<div>&nbsp\;</div>\n\n<ul>\n	<li><span style="font-size: 14px\;"><span style="font-family: arial\;"><em><em><em><span style="color: rgb(0\, 0\, 128)\;"><strong>NEW MEMBER OF THE YEAR AWARD</strong></span>:&nbsp\;<em>Presented to a new Chamber member that immediately became active after joining\, whether through networking\, events\, volunteerism\, or otherwise.&nbsp\;</em></em></em></em></span></span></li>\n</ul>\n\n<div><span style="font-size: 14px\;"><span style="font-family: arial\;"><strong>Become an Event Sponsor</strong><br />\nIf you are interested in sponsoring the event\, see all sponsorship opportunities&nbsp\;<a href="https://documentcloud.adobe.com/link/review?uri=urn:aaid:scds:US:862ba4b9-5c27-4a92-be44-99d719ed4478"><strong>here</strong></a>\, and contact Event Manger Angalyse Keyock for more information.&nbsp\;</span></span><br />\n<br />\n&nbsp\;</div>\n
LOCATION:Cripple Creek Country Club 29494 Cripple Creek Rd. Dagsboro\, DE 19939
UID:e.2126.22870
SEQUENCE:3
DTSTAMP:20260424T113609Z
URL:https://business.bethany-fenwick.org/events/details/45th-member-celebration-sapphire-soir&#233;e-22870
END:VEVENT

END:VCALENDAR
