BEGIN:VCALENDAR
VERSION:2.0
PRODID:-//ChamberMaster//Event Calendar 2.0//EN
METHOD:PUBLISH
X-PUBLISHED-TTL:P3D
REFRESH-INTERVAL:P3D
CALSCALE:GREGORIAN
BEGIN:VEVENT
DTSTART:20240224T150000Z
DTEND:20240224T190000Z
X-MICROSOFT-CDO-ALLDAYEVENT:FALSE
SUMMARY:6th Annual Media Job Fair
DESCRIPTION:Join Draper Media and host WBOC for the 6th Annual Job Fair at DelTech in Georgetown!\n\n\n\nHaving a difficult time recruiting new employees? You're not alone! Don't miss your chance to be in front of over 1500 potential new hires! \n\n\n\nBooth Sponsors ($1250) will receive:\n\n	Booth space\n	Sponsor logo on web page\n	Targeted social advertising\n	30 second commercials on radio station of your choice\n\nLocal Sponsors ($2500) will receive:\n\n\n	Booth space with first choice of location\n	Sponsor logo on web page\n	TV & Radio Promo\n	30 second commercials on radio station of your choice\n	Targeted social advertising\n	Targeting recruitment ads
X-ALT-DESC;FMTTYPE=text/html:Join Draper Media and host WBOC for the 6th Annual Job Fair at DelTech in Georgetown!<br />\n<br />\nHaving a difficult time recruiting new employees? You&#39\;re not alone! Don&#39\;t miss your chance to be in front of over 1500 potential new hires!&nbsp\;<br />\n<br />\nBooth Sponsors ($1250) will receive:\n<ul>\n	<li>Booth space</li>\n	<li>Sponsor logo on web page</li>\n	<li>Targeted social advertising</li>\n	<li>30 second commercials on radio station of your choice</li>\n</ul>\nLocal Sponsors ($2500) will receive:\n\n<ul>\n	<li>Booth space with first choice of location</li>\n	<li>Sponsor logo on web page</li>\n	<li>TV &amp\; Radio Promo</li>\n	<li>30 second commercials on radio station of your choice</li>\n	<li>Targeted social advertising</li>\n	<li>Targeting recruitment ads</li>\n</ul>\n
LOCATION:Delaware Technical Community College Jack F. Owens Campus - Georgetown William C. Jason Technology Center 21179 College Dr. Georgetown\, DE 19947
UID:e.2126.28391
SEQUENCE:3
DTSTAMP:20260420T124759Z
URL:https://business.bethany-fenwick.org/events/details/6th-annual-media-job-fair-28391
END:VEVENT

END:VCALENDAR
