BEGIN:VCALENDAR
VERSION:2.0
PRODID:-//ChamberMaster//Event Calendar 2.0//EN
METHOD:PUBLISH
X-PUBLISHED-TTL:P3D
REFRESH-INTERVAL:P3D
CALSCALE:GREGORIAN
BEGIN:VEVENT
DTSTART:20240127T000000Z
DTEND:20240127T010000Z
X-MICROSOFT-CDO-ALLDAYEVENT:FALSE
SUMMARY:A Magical Evening with Will Fern at Dickens Parlour Theater
DESCRIPTION:A seasoned magician with over 20 years of performing experience\, Will Fern is known around the country for his diverse magical career. From close-up magic performed at all manner of private and corporate affairs to team building workshops\, trade show booth "edutainment"\, and theater performances Will is constantly working\, at over 200 shows per year. A masterful comedy magician\, Will works audience members into his effects with arresting imaginative skill. You will be amused ... even as you are astonished at his performance GUARANTEED!\n\nAlong with such clients as Novartis\, Verizon\, Johnson & Johnson\, and Goldman Sachs\, Will has been employed as the resident magician at several top Caribbean resorts and 4-star New York area restaurants. Will is also a regular performer at the world-renowned Magic Castle in Hollywood\, CA\, and just this July won the International Brotherhood of Magicians Award for "International Champion of Strolling Magic". "To me\, magic is just the vehicle to drive my audience into the fun zone. Once we're there anything goes. Trust builds\, camaraderie is heightened\, and the end result is a unique performance that can never be repeated." "NO OTHER ART can bring the performer closer to his audience\, and his audience to him\, than MAGIC. I respect my audiences deeply."
X-ALT-DESC;FMTTYPE=text/html:<p>A seasoned magician with over 20 years of performing experience\, Will Fern is known around the country for his diverse magical career. From close-up magic performed at all manner of private and corporate affairs to team building workshops\, trade show booth &ldquo\;edutainment&rdquo\;\, and theater performances&hellip\;Will is constantly working\, at over 200 shows per year. A masterful comedy magician\, Will works audience members into his effects with arresting imaginative skill. You will be amused ... even as you are astonished at his performance&hellip\;GUARANTEED!</p>\n\n<p>Along with such clients as Novartis\, Verizon\, Johnson &amp\; Johnson\, and Goldman Sachs\, Will has been employed as the resident magician at several top Caribbean resorts and 4-star New York area restaurants. Will is also a regular performer at the world-renowned Magic Castle in Hollywood\, CA\, and just this July won the International Brotherhood of Magicians Award for &ldquo\;International Champion of Strolling Magic&rdquo\;. &ldquo\;To me\, magic is just the vehicle to drive my audience into the fun zone. Once we&rsquo\;re there&hellip\;anything goes. Trust builds\, camaraderie is heightened\, and the end result is a unique performance that can never be repeated.&rdquo\; &ldquo\;NO OTHER ART can bring the performer closer to his audience\, and his audience to him\, than MAGIC. I respect my audiences deeply.&quot\;</p>\n
LOCATION:Dickens Parlour Theatre 31810 Good Earth Lane Ocean View\, DE 19970
UID:e.2126.27770
SEQUENCE:3
DTSTAMP:20260420T150209Z
URL:https://business.bethany-fenwick.org/events/details/a-magical-evening-with-will-fern-at-dickens-parlour-theater-27770
END:VEVENT

END:VCALENDAR
