BEGIN:VCALENDAR
VERSION:2.0
PRODID:-//ChamberMaster//Event Calendar 2.0//EN
METHOD:PUBLISH
X-PUBLISHED-TTL:P3D
REFRESH-INTERVAL:P3D
CALSCALE:GREGORIAN
BEGIN:VEVENT
DTSTART:20221211T200000Z
DTEND:20221212T000000Z
X-MICROSOFT-CDO-ALLDAYEVENT:FALSE
SUMMARY:Addy Sea Historic Oceanfront Inn & Toys for Tots Celebration
DESCRIPTION:Addy Sea Historic Oceanfront Inn & 75th Toys for Tots Anniversary\n\nJoin us on Sunday\, December 11\, 2022 \n\n3pm-7pm\n\nDonate an unwrapped new toy (per person) for admission to tour the\n\nAddy Sea Historic Oceanfront Inn and the NEW Addy Sea Guest House!\n\n\n\nAll ages welcome!\n\nRefreshments\, Music\, Raffles\, & Santa!\n\n(children under 18 must be accompanied by an adult)
X-ALT-DESC;FMTTYPE=text/html:<div style="text-align: center\;"><span style="font-size:14px\;"><span style="font-family:arial\;"><strong>Addy Sea Historic Oceanfront Inn &amp\; 75th Toys for Tots Anniversary</strong><br />\nJoin us on Sunday\, December 11\, 2022&nbsp\;<br />\n3pm-7pm<br />\n<strong><em>Donate an unwrapped new toy (per person) for admission to tour the<br />\nAddy Sea Historic Oceanfront Inn and the NEW&nbsp\;Addy Sea Guest House!</em></strong><br />\n<br />\nAll ages welcome!<br />\nRefreshments\, Music\, Raffles\, &amp\; Santa!<br />\n(children under 18 must be accompanied by an adult)</span></span></div>\n
LOCATION:Addy Sea Historic Oceanfront Inn 99 Oceanview Parkway Bethany Beach\, DE 19930
UID:e.2126.24856
SEQUENCE:3
DTSTAMP:20260421T124841Z
URL:https://business.bethany-fenwick.org/events/details/addy-sea-historic-oceanfront-inn-toys-for-tots-celebration-24856
END:VEVENT

END:VCALENDAR
