BEGIN:VCALENDAR
VERSION:2.0
PRODID:-//ChamberMaster//Event Calendar 2.0//EN
METHOD:PUBLISH
X-PUBLISHED-TTL:P3D
REFRESH-INTERVAL:P3D
CALSCALE:GREGORIAN
BEGIN:VEVENT
DTSTART;VALUE=DATE:20200924
DTEND;VALUE=DATE:20200925
TRANSP:TRANSPARENT
X-MICROSOFT-CDO-ALLDAYEVENT:TRUE
SUMMARY:AGH "Big Bucks" Cash Raffle
DESCRIPTION:New this year! Atlantic General Hospital Foundation will be holding a "Big Bucks" Cash Raffle drawing at the conclusion of The 2020 Robert E. Warfield Memorial Tournament on Thursday\, September 24\, 2020 at Ocean City Golf Club in Berlin\, Maryland.\n\n\n\nCash Prize is $2\,500! Tickets are $50 each. Only 100 tickets will be sold and only 1 winner will be drawn. Winner need not be present.\n\n\n\nTickets can be purchased online at www.agh.care/golf. Ticket sales will end at 4:00pm on September 24\, 2020 or when 100 tickets have been sold.
X-ALT-DESC;FMTTYPE=text/html:<span style="font-size: 14px\;"><span style="font-family: arial\;">New this year! Atlantic General Hospital Foundation will be holding a &quot\;Big Bucks&quot\; Cash Raffle drawing at the conclusion of The 2020 Robert E. Warfield Memorial Tournament on Thursday\, September 24\, 2020 at Ocean City Golf Club in Berlin\, Maryland.<br />\n<br />\nCash Prize is $2\,500! Tickets are $50 each. Only 100 tickets will be sold and only 1 winner will be drawn. Winner need not be present.<br />\n<br />\nTickets can be purchased online at www.agh.care/golf. Ticket sales will end at 4:00pm on September 24\, 2020 or when 100 tickets have been sold.</span></span>
LOCATION:
UID:e.2126.21775
SEQUENCE:3
DTSTAMP:20260425T142957Z
URL:https://business.bethany-fenwick.org/events/details/agh-big-bucks-cash-raffle-21775
END:VEVENT

END:VCALENDAR
