BEGIN:VCALENDAR
VERSION:2.0
PRODID:-//ChamberMaster//Event Calendar 2.0//EN
METHOD:PUBLISH
X-PUBLISHED-TTL:P3D
REFRESH-INTERVAL:P3D
CALSCALE:GREGORIAN
BEGIN:VEVENT
DTSTART;VALUE=DATE:20231121
DTEND;VALUE=DATE:20231129
TRANSP:TRANSPARENT
X-MICROSOFT-CDO-ALLDAYEVENT:TRUE
SUMMARY:Alni Body Care Black Friday SALE!
DESCRIPTION:Alni Body Care Black Friday SALE! \n\n20% off all website orders with code BLACKFRIDAY20\n\nwww.alnibodycare.com\n\nFree gifts with $75+ or $200+ purchases
X-ALT-DESC;FMTTYPE=text/html:<span style="font-size:20px"><span style="font-family:times new roman"><strong>Alni Body Care Black Friday SALE!&nbsp\;<br />\n20% off all website orders with code BLACKFRIDAY20<br />\n<a href="http://www.alnibodycare.com">www.alnibodycare.com</a><br />\nFree gifts with $75+ or $200+ purchases</strong></span></span>
LOCATION:Ocean View\, DE Online www.alnibodycare.com
UID:e.2126.27177
SEQUENCE:3
DTSTAMP:20260420T183514Z
URL:https://business.bethany-fenwick.org/events/details/alni-body-care-black-friday-sale-27177
END:VEVENT

END:VCALENDAR
