BEGIN:VCALENDAR
VERSION:2.0
PRODID:-//ChamberMaster//Event Calendar 2.0//EN
METHOD:PUBLISH
X-PUBLISHED-TTL:P3D
REFRESH-INTERVAL:P3D
CALSCALE:GREGORIAN
BEGIN:VEVENT
DTSTART:20250524T130000Z
DTEND:20250524T190000Z
X-MICROSOFT-CDO-ALLDAYEVENT:FALSE
SUMMARY:Artisans Fair at Lord Baltimore Elementary
DESCRIPTION:Come to the Lord Baltimore Elementary School for an Artisans Fair on Saturday\, May 24th from 9am - 3pm.\n\n\n\nShop local artisans of fine art\, glass\, jewelry\, metalwork\, photography\, pottery\, textiles\, woodcarving and enjoy fresh produce\, food\, garden supplies and plants at the Farmers Market from 9am - 1pm.\n\n\n\nThere will also be a bake sale\, auction and 50/50 tickets.\n\n\n\nFree Admission and parking.\n\n\n\nSponsored by the South Coastal DE AARP for college scholarships.
X-ALT-DESC;FMTTYPE=text/html:Come to the Lord Baltimore Elementary School for an Artisans Fair on Saturday\, May 24th from 9am - 3pm.<br />\n<br />\nShop local artisans of fine art\, glass\, jewelry\, metalwork\, photography\, pottery\, textiles\, woodcarving and enjoy fresh produce\, food\, garden supplies and plants at the Farmers Market from 9am - 1pm.<br />\n<br />\nThere will also be a bake sale\, auction and 50/50 tickets.<br />\n<br />\nFree Admission and parking.<br />\n<br />\nSponsored by the South Coastal DE AARP for college scholarships.
LOCATION:
UID:e.2126.38163
SEQUENCE:3
DTSTAMP:20260422T143134Z
URL:https://business.bethany-fenwick.org/events/details/artisans-fair-at-lord-baltimore-elementary-38163
END:VEVENT

END:VCALENDAR
