BEGIN:VCALENDAR
VERSION:2.0
PRODID:-//ChamberMaster//Event Calendar 2.0//EN
METHOD:PUBLISH
X-PUBLISHED-TTL:P3D
REFRESH-INTERVAL:P3D
CALSCALE:GREGORIAN
BEGIN:VEVENT
DTSTART;VALUE=DATE:20240814
DTEND;VALUE=DATE:20240819
TRANSP:TRANSPARENT
X-MICROSOFT-CDO-ALLDAYEVENT:TRUE
SUMMARY:Artists Paint OC: A Plein Air Event at the Art League of OC
DESCRIPTION:For five days\, 50 artists compete for the top prizes of cash and prestige as they spread out across the area to paint famous vistas. These "plein air" artists are professionals\; many are award winners in multiple competitions.  \n\nThere are two opportunities to buy the original art. You are invited to the free "Wet Paint Sales" on Saturday\, Aug. 17\, from 5-7 pm and on Sunday\, Aug. 18\, from 1-3 pm. Both sales are held at the waterfront Ocean City Center for the Arts and are free to attend. Every painting is one-of-a-kind and ready to hang.
X-ALT-DESC;FMTTYPE=text/html:<p>For five days\, 50 artists compete for the top prizes of cash and prestige as they spread out across the area to paint famous vistas. These &ldquo\;plein air&rdquo\; artists are professionals\; many are award winners in multiple competitions.&nbsp\;&nbsp\;</p>\n\n<p>There are two opportunities to buy the original art. You are invited to the free &ldquo\;Wet Paint Sales&rdquo\; on Saturday\, Aug. 17\, from 5-7 pm&nbsp\;and on Sunday\, Aug. 18\, from 1-3 pm. Both sales are held at the waterfront Ocean City Center for the Arts&nbsp\;and&nbsp\;are free to attend. Every painting is one-of-a-kind and ready to hang.</p>\n
LOCATION:The Art League of Ocean City 502 94th St. Ocean City\, MD 21842
UID:e.2126.30571
SEQUENCE:3
DTSTAMP:20260420T164219Z
URL:https://business.bethany-fenwick.org/events/details/artists-paint-oc-a-plein-air-event-at-the-art-league-of-oc-30571
END:VEVENT

END:VCALENDAR
