BEGIN:VCALENDAR
VERSION:2.0
PRODID:-//ChamberMaster//Event Calendar 2.0//EN
METHOD:PUBLISH
X-PUBLISHED-TTL:P3D
REFRESH-INTERVAL:P3D
CALSCALE:GREGORIAN
BEGIN:VEVENT
DTSTART:20260324T143000Z
DTEND:20260324T153000Z
X-MICROSOFT-CDO-ALLDAYEVENT:FALSE
SUMMARY:Back to the Basics: Get to Know the Basic Elements of a Comprehensive Estate Plan at South Coastal Library
DESCRIPTION:Join the South Coastal Library for a free-three part presentation on estate planning. Whether you are considering updating your estate plan or creating your estate plan for the first time the process can seem daunting and overwhelming. Without the correct and relevant information\, what appears as "simple" might not be simple at all. This presentation is designed for attendees who want to learn about developing a comprehensive estate plan to protect themselves and those they love. DiPietro Law\, LLC takes great pride in serving their close knit community and educating neighbors so that they feel empowered to make informed decisions. Attendees may attend all three sessions\, or pick and choose which sessions best fit their interests and needs. No library card is required. Ages 18+ please. No registration is required.\n\nIn this first session\, the focus will be on creating a plan for incapacity with an emphasis on powers of attorney and advance health care directives. We'll also talk about creating a plan to provide for your loved ones with a Will. We'll learn more about what a Will can do   and what it can't do.\n\nRegistration is appreciated but optional. \n\n\nSession 2 | Tuesday\, March 31 @ 10:15 am | Making it Easy: Learn about Probate and How to Avoid It \n\nSession 3 | Tuesday\, April 7 @ 10:15 am | Protect What You've Got: Learn About Protecting Assets from the Threat of Long Term Care
X-ALT-DESC;FMTTYPE=text/html:<p><span style="font-size:16px"><span style="font-family:arial\,helvetica\,sans-serif">Join the South Coastal Library for a free-three part presentation on estate planning. Whether you are considering updating your estate plan or creating your estate plan for the first time the process can seem daunting and overwhelming. Without the correct and relevant information\, what appears as &ldquo\;simple&rdquo\; might not be simple at all. This presentation is designed for attendees who want to learn about developing a comprehensive estate plan to protect themselves and those they love. DiPietro Law\, LLC takes great pride in serving their close knit community and educating neighbors so that they feel empowered to make informed decisions.&nbsp\;<strong>Attendees may attend all three sessions\, or pick and choose which sessions best fit their interests and needs. No library card is required. Ages 18+ please. No registration is required.</strong></span></span></p>\n\n<p><span style="font-size:16px"><span style="font-family:arial\,helvetica\,sans-serif">In this first session\, the focus will be on&nbsp\;creating a plan for incapacity with an emphasis on powers of attorney and advance health care directives. We&rsquo\;ll also talk about creating a plan to provide for your loved ones with a Will. We&rsquo\;ll learn more about what a Will can do &ndash\; and what it can&rsquo\;t do.</span></span></p>\n\n<p><strong><span style="font-family:arial\,helvetica\,sans-serif"><span style="font-size:16px">Registration is appreciated but optional.&nbsp\;</span></span></strong></p>\n\n<hr />\n<p><span style="font-size:16px"><span style="font-family:arial\,helvetica\,sans-serif">Session 2 | Tuesday\, March 31 @ 10:15 am |&nbsp\;<em>Making it Easy: Learn about Probate and How to Avoid It&nbsp\;</em></span></span></p>\n\n<p><span style="font-size:16px"><span style="font-family:arial\,helvetica\,sans-serif">Session 3 | Tuesday\, April 7 @ 10:15 am |&nbsp\;<em>Protect What You&rsquo\;ve Got: Learn About Protecting Assets from the Threat of Long Term Care</em></span></span></p>\n
LOCATION:
UID:e.2126.42335
SEQUENCE:3
DTSTAMP:20260421T083002Z
URL:https://business.bethany-fenwick.org/events/details/back-to-the-basics-get-to-know-the-basic-elements-of-a-comprehensive-estate-plan-at-south-coastal-library-42335
END:VEVENT

END:VCALENDAR
