BEGIN:VCALENDAR
VERSION:2.0
PRODID:-//ChamberMaster//Event Calendar 2.0//EN
METHOD:PUBLISH
X-PUBLISHED-TTL:P3D
REFRESH-INTERVAL:P3D
CALSCALE:GREGORIAN
BEGIN:VEVENT
DTSTART:20220501T140000Z
DTEND:20220501T170000Z
X-MICROSOFT-CDO-ALLDAYEVENT:FALSE
SUMMARY:Beebe Brunch - Under the Blossoms
DESCRIPTION:The Inaugural Beebe Brunch on Sunday\, May 1st is at "Signatures at Bayside" in Selbyville. This unique event will feature brunch\, bottomless breakfast cocktails\, musical entertainment by Dustin Showers\, a gift card pull\, and a live auction. Proceeds will provide funding for the Emergency Department and Cancer Center at Beebe Healthcare's South Coastal Health Campus in Millville. \n\n \n\nIndividual tickets can be purchased for $125\, and Gold Sponsorships begin at $1\,000. Please click on this link for more information: www.beebehealthcare.org/BeebeBrunch2022\n\n\n\nPlease contact me directly if you have any questions. Thank you so very much and I hope to see you at BRUNCH!\n\nAll my best to you\,\n\nDavid ??\n\n \n\nDavid Szumski\n\nBeebe Medical Foundation\n\n902 Savannah Road Lewes\, DE 19958\n\nCell: 302-227-2659    Office: 302-644-2900
X-ALT-DESC;FMTTYPE=text/html:<span style="font-size:14px\;"><span style="font-family:arial\;"><span style="color:#002060">The Inaugural <strong><em>Beebe Brunch on Sunday\, May 1st is at&nbsp\;&quot\;Signatures at Bayside&quot\;</em></strong>&nbsp\;in Selbyville. This unique event will feature brunch\, bottomless breakfast cocktails\, musical entertainment by Dustin Showers\, a gift card pull\, and a live auction. Proceeds will provide funding for the Emergency Department and Cancer Center at Beebe Healthcare&#39\;s South Coastal Health Campus in Millville. </span><br />\n&nbsp\;<br />\n<strong><span style="color:#002060">Individual tickets can be purchased for $125\, and Gold Sponsorships begin at $1\,000. Please click on this link for more information: </span><span style="color:#FF66FF"><a href="http://www.beebehealthcare.org/BeebeBrunch2022"><span style="color:#FF66FF">www.beebehealthcare.org/BeebeBrunch2022</span></a></span></strong><br />\n<br />\n<span style="color:#002060">Please contact me directly if you have any questions. Thank you so very much and I hope to see you at BRUNCH!</span><br />\n<span style="color:#002060">All my best to you\,</span><br />\n<span style="color:#002060">David </span>??<br />\n&nbsp\;<br />\nDavid Szumski<br />\nBeebe Medical Foundation<br />\n902 Savannah Road Lewes\, DE 19958<br />\nCell: 302-227-2659&nbsp\;&nbsp\;&nbsp\; Office: 302-644-2900</span></span>
LOCATION:Signatures at Bayside 31252 Americana Parkway Selbyville\, DE 19975
UID:e.2126.23621
SEQUENCE:3
DTSTAMP:20260422T014334Z
URL:https://business.bethany-fenwick.org/events/details/beebe-brunch-under-the-blossoms-23621
END:VEVENT

END:VCALENDAR
