BEGIN:VCALENDAR
VERSION:2.0
PRODID:-//ChamberMaster//Event Calendar 2.0//EN
METHOD:PUBLISH
X-PUBLISHED-TTL:P3D
REFRESH-INTERVAL:P3D
CALSCALE:GREGORIAN
BEGIN:VEVENT
DTSTART:20211030T000000Z
DTEND:20211030T020000Z
X-MICROSOFT-CDO-ALLDAYEVENT:FALSE
SUMMARY:Bonfires on the Beach
DESCRIPTION:There is nothing better than a bonfire on a chilly night\, right? Well\, bonfires are being moved to Friday nights in October from 8   10 pm. Join us on the beach off of Campbell Place. Marshmallows and roasting sticks will be provided while supplies last.
X-ALT-DESC;FMTTYPE=text/html:There is nothing better than a bonfire on a chilly night\, right? Well\, bonfires are being moved to Friday nights in October from 8 &ndash\; 10 pm. Join us on the beach off of Campbell Place. Marshmallows and roasting sticks will be provided while supplies last.&nbsp\;
LOCATION:Bethany Beach
UID:e.2126.22835
SEQUENCE:3
DTSTAMP:20260424T131637Z
URL:https://business.bethany-fenwick.org/events/details/bonfires-on-the-beach-10-29-2021-22835
END:VEVENT

END:VCALENDAR
