BEGIN:VCALENDAR
VERSION:2.0
PRODID:-//ChamberMaster//Event Calendar 2.0//EN
METHOD:PUBLISH
X-PUBLISHED-TTL:P3D
REFRESH-INTERVAL:P3D
CALSCALE:GREGORIAN
BEGIN:VEVENT
DTSTART:20230917T223000Z
DTEND:20230918T010000Z
X-MICROSOFT-CDO-ALLDAYEVENT:FALSE
SUMMARY:Broadway at the Beach - Jennifer Hope Wills accompanied by Notes on the Beach
DESCRIPTION:Jennifer Hope Wills is originally from Ocean City\, MD where her parents owned and operated a theatre company for over 20 years (Parker Productions). Since that time she spent almost another 20 years living and working out of New York City. She spent nearly four years starring as Christine in The Phantom of the Opera performing the role nearly 1000 times. Other Broadway credits include her critically-acclaimed portrayal of Eileen in Wonderful Town opposite Brooke Shields (New Broadway Cast recording)\, The Woman in White and Disney's Beauty & the Beast. Off Broadway Jennifer appeared as Della in A Tree Grows in Brooklyn at City Center Encores! She has starred in over 40 productions at top regional theaters including favorites such as Brigadoon\, My Fair Lady\, Sound of Music\, Camelot\, Showboat\, The Music Man\, Finian's Rainbow\, and Aspects of Love. NYC concerts at Town Hall\, Merkin Concert Hall\, and Joe's Pub. Headlined with Omaha\, Houston\, Portland\, Austin\, and Roanoke Symphonies to name a few. She has returned home to the Eastern Shore where her most important role is mom to Vincent.\nPianist Glenn Pearson and bassist Jeff Cooper have been friends and professional musicians for over 40 years. After meeting in high school in Washington\, D.C.\, they formed their first band and then attended Peabody Conservatory of Music togehter. After graduating\, Jeff focused on musical theater while Glenn concetrated on piano performance. Even with their different musical directions\, they always returned to their true passion - engaging audiences with their talent\, wit\, and style to share their love of iconic American music. You may have heard Jeff at the Kennedy Center\, National and Ford's Theaters\, Wolf Trap\, as well as performing on Broadway. As a bandleader and solo pianist\, Glenn has performed at the White House\, Vice President's residence\, Kennedy Center\, countless embassies\, galleries\, and private homes.\n\nThey will be joined by Ken Schleifer on drums.  Ken has performed as a drummer/percussionist for many musical organizations around the Delmarva Region including the Possum Point Players\, Clear Space Theater Company\, The Southern Delaware Choral Society\, CAMP Rehoboth Chorus\, Paul Cullen & Friends\, \, Dickens Parlour Theatre Productions\, Musical Theatre Productions at the Milton Theatre\, and the Capital Ringers.
X-ALT-DESC;FMTTYPE=text/html:Jennifer Hope Wills is originally from Ocean City\, MD where her parents owned and operated a theatre company for over 20 years (Parker Productions). Since that time she spent almost another 20 years living and working out of New York City. She spent nearly four years starring as Christine in <em>The Phantom of the Opera</em> performing the role nearly 1000 times. Other Broadway credits include her critically-acclaimed portrayal of Eileen in <em>Wonderful Town</em> opposite Brooke Shields (New Broadway Cast recording)\, <em>The Woman in White</em> and Disney&#39\;s <em>Beauty &amp\; the Beast</em>. Off Broadway Jennifer appeared as Della in <em>A Tree Grows in Brooklyn</em> at City Center Encores! She has starred in over 40 productions at top regional theaters including favorites such as <em>Brigadoon\, My Fair Lady\, Sound of Music\, Camelot\, Showboat\, The Music Man\, Finian&#39\;s Rainbow</em>\, and <em>Aspects of Love</em>. NYC concerts at Town Hall\, Merkin Concert Hall\, and Joe&#39\;s Pub. Headlined with Omaha\, Houston\, Portland\, Austin\, and Roanoke Symphonies to name a few. She has returned home to the Eastern Shore where her most important role is mom to Vincent.\n<p>Pianist Glenn Pearson and bassist Jeff Cooper have been friends and professional musicians for over 40 years. After meeting in high school in Washington\, D.C.\, they formed their first band and then attended Peabody Conservatory of Music togehter. After graduating\, Jeff focused on musical theater while Glenn concetrated on piano performance. Even with their different musical directions\, they always returned to their true passion - engaging audiences with their talent\, wit\, and style to share their love of iconic American music. You may have heard Jeff at the Kennedy Center\, National and Ford&#39\;s Theaters\, Wolf Trap\, as well as performing on Broadway. As a bandleader and solo pianist\, Glenn has performed at the White House\, Vice President&#39\;s residence\, Kennedy Center\, countless embassies\, galleries\, and private homes.</p>\n\n<p>They will be joined by Ken Schleifer on drums. &nbsp\;Ken has performed as a drummer/percussionist for many musical organizations around the Delmarva Region including the Possum Point Players\, Clear Space Theater Company\, The Southern Delaware Choral Society\, CAMP Rehoboth Chorus\, Paul Cullen &amp\; Friends\, \, Dickens Parlour Theatre Productions\, Musical Theatre Productions at the Milton Theatre\, and the Capital Ringers.</p>\n
LOCATION:Bethany Beach Bandstand
UID:e.2126.26634
SEQUENCE:3
DTSTAMP:20260420T211912Z
URL:https://business.bethany-fenwick.org/events/details/broadway-at-the-beach-jennifer-hope-wills-accompanied-by-notes-on-the-beach-26634
END:VEVENT

END:VCALENDAR
