BEGIN:VCALENDAR
VERSION:2.0
PRODID:-//ChamberMaster//Event Calendar 2.0//EN
METHOD:PUBLISH
X-PUBLISHED-TTL:P3D
REFRESH-INTERVAL:P3D
CALSCALE:GREGORIAN
BEGIN:VEVENT
DTSTART:20240207T163000Z
DTEND:20240207T180000Z
X-MICROSOFT-CDO-ALLDAYEVENT:FALSE
SUMMARY:Brunch & Learn Series: Bunk Mann at Art League of OC
DESCRIPTION:Join us at the Art League of Ocean City on 94th Street at 11:30am for a delightful brunch and a fascinating exploration into the lives of Ocean City celebrities. Discover the untold stories\, achievements\, and experiences that have shaped this coastal community's notable figures while savoring delicious brunch bites.\n\nIn February: meet Bunk Mann\, author of "Vanishing Ocean City"\, "Ghosts in the Surf"\, and "Ocean City Chronicles". Sponsored by Papi's Tacos. Seating is limited so reserve your space now!\n\n$10 per person   includes light brunch & speaker presentation.\n\nTo register click here or call 410-524-9433
X-ALT-DESC;FMTTYPE=text/html:<p>Join us at the Art League of Ocean City on 94th Street&nbsp\;at 11:30am for a delightful brunch and a fascinating exploration into the lives of Ocean City celebrities. Discover the untold stories\, achievements\, and experiences that have shaped this coastal community&rsquo\;s notable figures while savoring delicious brunch bites.</p>\n\n<p>In February: meet Bunk Mann\, author of &ldquo\;Vanishing Ocean City&rdquo\;\, &ldquo\;Ghosts in the Surf&rdquo\;\, and &ldquo\;Ocean City Chronicles&rdquo\;. Sponsored by Papi&rsquo\;s Tacos. Seating is limited so reserve your space now!</p>\n\n<p>$10 per person &ndash\; includes light brunch &amp\; speaker presentation.</p>\n\n<p><a href="https://canvas.artleagueofoceancity.org/classes/1210"><strong>To register click here</strong></a>&nbsp\;or call 410-524-9433</p>\n
LOCATION:Art League of Ocean City 502 94th Street Ocean City\, MD 21842
UID:e.2126.27400
SEQUENCE:3
DTSTAMP:20260420T112947Z
URL:https://business.bethany-fenwick.org/events/details/brunch-learn-series-bunk-mann-at-art-league-of-oc-27400
END:VEVENT

END:VCALENDAR
