BEGIN:VCALENDAR
VERSION:2.0
PRODID:-//ChamberMaster//Event Calendar 2.0//EN
METHOD:PUBLISH
X-PUBLISHED-TTL:P3D
REFRESH-INTERVAL:P3D
CALSCALE:GREGORIAN
BEGIN:VEVENT
DTSTART:20230930T140000Z
DTEND:20230930T150000Z
X-MICROSOFT-CDO-ALLDAYEVENT:FALSE
SUMMARY:Bulb Planting with Heidi at Lord's Landscaping
DESCRIPTION:Join us for a free seminar with Heidi Carey as she share her passion and knowledge for planting fall bulbs for spring flowers.\n\n\n\nRegister here.
X-ALT-DESC;FMTTYPE=text/html:Join us for a free seminar with Heidi Carey as she share her passion and knowledge for planting fall bulbs for spring flowers.<br />\n<br />\nRegister <a href="https://www.eventbrite.com/e/bulb-planting-seminar-tickets-707111518587?aff=oddtdtcreator&amp\;ct=t%28EMAIL_CAMPAIGN_9_7_2023_14_11%29&amp\;mc_eid=4f735cf0fb&amp\;mc_cid=404a9e8d95">here</a>.
LOCATION:Lord's Landscaping 35577 Atlantic Ave. Millville\, DE 19967
UID:e.2126.26897
SEQUENCE:3
DTSTAMP:20260420T211921Z
URL:https://business.bethany-fenwick.org/events/details/bulb-planting-with-heidi-at-lord-s-landscaping-26897
END:VEVENT

END:VCALENDAR
