BEGIN:VCALENDAR
VERSION:2.0
PRODID:-//ChamberMaster//Event Calendar 2.0//EN
METHOD:PUBLISH
X-PUBLISHED-TTL:P3D
REFRESH-INTERVAL:P3D
CALSCALE:GREGORIAN
BEGIN:VEVENT
DTSTART;VALUE=DATE:20211101
DTEND;VALUE=DATE:20211125
TRANSP:TRANSPARENT
X-MICROSOFT-CDO-ALLDAYEVENT:TRUE
SUMMARY:Business & Sponsorship Registration 2021- Shop Local Extravaganza
DESCRIPTION:Businesses\n\n\n\nCustomers will be encouraged to Shop\, Savor\, Stay & Splurge  for a chance to win an in-store raffle from their favorite local business or multiple Grand Prizes including $500 gift cards. Every purchase at a participating business over $20 grants that shopper an entry into that specific store's drawing on December 21\, and a chance at the multiple grand prize drawings on  December 22. \n\n\n\nThis initiative\, organized by the Chamber in partnership with Coastal Point\, is designed to support the local member businesses of the Quiet Resorts which includes businesses of Bethany Beach\, Clarksville\, Dagsboro\, Fenwick Island\, Frankford\, Millville\, Ocean View\, Roxana\, Selbyville\, and South Bethany.\n\n\n\nHOW IT WORKS\n\n	Click green registration button at top of this page\n	Include your in store prize in registration\n	You will be listed on the Chamber's Facebook Event Page\n	\n		Please accept Facebook co-host request. This will allow you to add information to event page and the event will show up on your business page. (If applicable)\n	\n	\n	The Chamber will distribute ALL raffle tickets that will be used during the event. You DO NOT need to purchase raffle tickets. \n	The Chamber will distribute flyers. Please hang in the store.\n	Educate employees that the event is December 4th\, 11th\, and 18th. Purchases of $20+ grants entry. ONLY give raffle tickets out on these dates.\n	You are responsible for all tickets you are given. In order for us to track the number of participation\, we must be able to collect ALL tickets\, used or not used\, at the end of the event. \n	\n		Keep collected tickets (used) and non-used tickets separate for when a Chamber staff member comes to collect. \n	\n	\n	There are multiple chances for patrons to win! Once your store's winner is selected\, remaining tickets go into basket for next prize\, and so on until all winners are selected!\n\nRULES FOR CUSTOMER TO QUALIFY\n\n\n	Purchase must be of $20 or more\n	Purchase must be in-store on December 4th\, 11th\, or 18th\n	Must be 18 years of age or older to participate in raffle\n\nIN STORE RAFFLE IDEAS!\n\n\n	Gift card\n	Gift basket\n	Complimentary services\n	Complimentary meals\n	Specific store giveaway \n	RAFFLE MINIMUM VALUE: $25  & up to what makes sense for your business\n\nDoes your organization want to help promote the Shop Local Extravaganza?  \n\nSign up your organization as a Shop Local Extravaganza sponsor and submit your "Gift Prize" under raffle offering to be listed as part of the Grand Prize offerings. If you want to discuss options with a chamber staff member please call 302-539-1919. Your organization will be promoted on the webpage along with the weekly advertisement throughout December in the Coastal Point. Thank you for helping the local business community! Be sure to have your gift to the Chamber by Friday\, December 17. Please indicate in the comments if you would like to be part of the drawing on December 22. If you would like a printable flyer to display in your business\, please click here.\n\n\n\nDo you want to run an advertisement in the Coastal Point? Contact a Coastal Point representative at adsales@coastalpoint.com for pricing.
X-ALT-DESC;FMTTYPE=text/html:<span style="font-size:14px\;"><span style="font-family:arial\;"><strong>Businesses</strong><br />\n<br />\nCustomers will be encouraged to<strong><em> Shop\, Savor\,</em></strong>&nbsp\;<strong><em>Stay &amp\; Splurge&nbsp\;</em></strong>&nbsp\;for a chance to win an in-store raffle from their favorite local business or multiple Grand Prizes including<strong>&nbsp\;$500 gift cards. </strong>Every purchase at a participating business over $20 grants that shopper an entry into that specific store&#39\;s drawing on&nbsp\;<strong>December 21</strong>\, and a chance at the multiple grand prize drawings on <strong>&nbsp\;December 22</strong>. </span></span><br />\n<br />\n<span style="color: rgb(37\, 32\, 26)\; font-family: arial\; font-size: 14px\;">This initiative\, organized by the Chamber in partnership with Coastal Point\, is designed to support the&nbsp\;</span><span style="font-family: arial\; box-sizing: content-box\; font-weight: bolder\; inset: auto\; clear: none\; color: rgb(37\, 32\, 26)\; content: normal\; direction: inherit\; empty-cells: show\; font-variant-numeric: inherit\; font-variant-east-asian: inherit\; font-stretch: inherit\; font-size: 14px\; line-height: inherit\; margin: 0px\; max-height: none\; max-width: none\; min-height: initial\; min-width: initial\; opacity: 1\; outline-offset: 0px\; overflow: visible\; padding: 0px\; position: static\; resize: none\; table-layout: auto\; text-overflow: clip\; vertical-align: baseline\; visibility: inherit\; word-break: inherit\; overflow-wrap: inherit\; z-index: auto\; background-image: none\; background-position: initial\; background-size: initial\; background-repeat: initial\; background-attachment: initial\; background-origin: initial\; background-clip: initial\; border: none\; border-collapse: separate\; border-radius: 0px\; height: auto\; width: auto\; box-shadow: none\;">local member businesses</span><span style="color: rgb(37\, 32\, 26)\; font-family: arial\; font-size: 14px\;">&nbsp\;of the Quiet Resorts which includes businesses of&nbsp\;</span><span style="font-family: arial\; box-sizing: content-box\; font-weight: bolder\; inset: auto\; clear: none\; color: rgb(37\, 32\, 26)\; content: normal\; direction: inherit\; empty-cells: show\; font-variant-numeric: inherit\; font-variant-east-asian: inherit\; font-stretch: inherit\; font-size: 14px\; line-height: inherit\; margin: 0px\; max-height: none\; max-width: none\; min-height: initial\; min-width: initial\; opacity: 1\; outline-offset: 0px\; overflow: visible\; padding: 0px\; position: static\; resize: none\; table-layout: auto\; text-overflow: clip\; vertical-align: baseline\; visibility: inherit\; word-break: inherit\; overflow-wrap: inherit\; z-index: auto\; background-image: none\; background-position: initial\; background-size: initial\; background-repeat: initial\; background-attachment: initial\; background-origin: initial\; background-clip: initial\; border: none\; border-collapse: separate\; border-radius: 0px\; height: auto\; width: auto\; box-shadow: none\;">Bethany Beach\, Clarksville\, Dagsboro\, Fenwick Island\, Frankford\, Millville\, Ocean View\, Roxana\, Selbyville\, and South Bethany</span><span style="color: rgb(37\, 32\, 26)\; font-family: arial\; font-size: 14px\;">.</span><br />\n<br />\n<span style="font-size:14px\;"><span style="font-family:arial\;"><strong><u>HOW IT WORKS</u></strong></span></span>\n<ul>\n	<li><span style="font-size:14px\;"><span style="font-family:arial\;"><strong>Click green registration button at top of this page</strong></span></span></li>\n	<li><span style="font-size:14px\;"><span style="font-family:arial\;"><strong>Include your in store prize in registration</strong></span></span></li>\n	<li><span style="font-size:14px\;"><span style="font-family:arial\;"><strong>You will be listed on the Chamber&#39\;s Facebook Event Page</strong></span></span>\n	<ul>\n		<li><span style="font-size:14px\;"><span style="font-family:arial\;"><strong>Please accept Facebook co-host request. This will allow you to add information to event page and the event will show up on your business page. (If applicable)</strong></span></span></li>\n	</ul>\n	</li>\n	<li><span style="font-size:14px\;"><span style="font-family:arial\;"><strong>The Chamber will distribute ALL raffle tickets that will be used during the event. You DO NOT need to purchase raffle tickets.&nbsp\;</strong></span></span></li>\n	<li><span style="font-size:14px\;"><span style="font-family:arial\;"><strong>The Chamber will distribute flyers. Please hang in the store.</strong></span></span></li>\n	<li><span style="font-size:14px\;"><span style="font-family:arial\;"><strong>Educate employees that the event is December 4th\, 11th\, and 18th. Purchases of $20+ grants entry. ONLY give raffle tickets out on these dates.</strong></span></span></li>\n	<li><span style="font-size:14px\;"><span style="font-family:arial\;"><strong>You are responsible for all tickets you are given. In order for us to track the number of participation\, we must be able to collect ALL tickets\, used or not used\, at the end of the event.&nbsp\;</strong></span></span>\n	<ul>\n		<li><span style="font-size:14px\;"><span style="font-family:arial\;"><strong>Keep collected tickets (used) and non-used tickets separate&nbsp\;for when a Chamber staff member comes to collect.&nbsp\;</strong></span></span></li>\n	</ul>\n	</li>\n	<li><span style="font-size:14px\;"><span style="font-family:arial\;"><strong>There are multiple chances for patrons to win! Once your store&#39\;s winner is selected\, remaining tickets go into basket for next prize\, and so on until all winners are selected!</strong></span></span></li>\n</ul>\n<span style="font-size:14px\;"><span style="font-family:arial\;"><strong><u>RULES FOR CUSTOMER TO QUALIFY</u></strong></span></span>\n\n<ul>\n	<li><span style="font-size:14px\;"><span style="font-family:arial\;"><strong>Purchase must be of $20 or more</strong></span></span></li>\n	<li><span style="font-size:14px\;"><span style="font-family:arial\;"><strong>Purchase must be in-store on December 4th\, 11th\, or 18th</strong></span></span></li>\n	<li><span style="font-size:14px\;"><span style="font-family:arial\;"><strong>Must be 18 years of age or older to participate in raffle</strong></span></span></li>\n</ul>\n<span style="font-size:14px\;"><span style="font-family:arial\;"><strong><u>IN STORE RAFFLE IDEAS!</u></strong></span></span>\n\n<ul>\n	<li><span style="font-size:14px\;"><span style="font-family:arial\;"><strong>Gift card</strong></span></span></li>\n	<li><span style="font-size:14px\;"><span style="font-family:arial\;"><strong>Gift basket</strong></span></span></li>\n	<li><span style="font-size:14px\;"><span style="font-family:arial\;"><strong>Complimentary services</strong></span></span></li>\n	<li><span style="font-size:14px\;"><span style="font-family:arial\;"><strong>Complimentary meals</strong></span></span></li>\n	<li><span style="font-size:14px\;"><span style="font-family:arial\;"><strong>Specific store giveaway&nbsp\;</strong></span></span></li>\n	<li><span style="font-size:14px\;"><span style="font-family:arial\;"><strong>RAFFLE MINIMUM VALUE: $25</strong></span></span>&nbsp\;<span style="font-size:14px\;"><span style="font-family:arial\;"><strong>&#8203\;&amp\; up to what makes sense for your business</strong></span></span></li>\n</ul>\n<span style="font-size:14px\;"><span style="font-family:arial\;"><strong>Does your organization want to help promote the Shop Local Extravaganza?&nbsp\;</strong>&nbsp\;<br />\nSign up your organization as a Shop Local Extravaganza sponsor and submit your &quot\;Gift Prize&quot\; under raffle offering to be listed as part of the Grand Prize offerings. If you want to discuss options with a chamber staff member please call&nbsp\;302-539-1919. Your organization will be promoted on the webpage along with the weekly advertisement throughout December in the Coastal Point. Thank you for helping the local business community! Be sure to have your gift to the Chamber by Friday\, December 17. Please indicate in the comments if you would like to be part of the drawing on December 22. If you would like a printable flyer to display in your business\, please <strong><a href="https://chambermaster.blob.core.windows.net/userfiles/UserFiles/chambers/2126/File/Community_Events/Shop_Local_Extravaganza/8.5x11-flyer.pdf" target="_blank">click here</a></strong>.<br />\n<br />\n<strong>Do you want to run an advertisement in the Coastal Point?</strong>&nbsp\;Contact a&nbsp\;Coastal Point representative at <strong>adsales@coastalpoint.com</strong> for pricing.</span></span><br />\n&nbsp\;
LOCATION:LOCAL BUSINESSES of the Quiet Resorts which includes businesses of Bethany Beach\, Clarksville\, Dagsboro\, Fenwick Island\, Frankford\, Millville\, Ocean View\, Roxana\, Selbyville\, and South Bethany.
UID:e.2126.23039
SEQUENCE:3
DTSTAMP:20260422T154622Z
URL:https://business.bethany-fenwick.org/events/details/business-sponsorship-registration-2021-shop-local-extravaganza-23039
END:VEVENT

END:VCALENDAR
