BEGIN:VCALENDAR
VERSION:2.0
PRODID:-//ChamberMaster//Event Calendar 2.0//EN
METHOD:PUBLISH
X-PUBLISHED-TTL:P3D
REFRESH-INTERVAL:P3D
CALSCALE:GREGORIAN
BEGIN:VEVENT
DTSTART:20240831T140000Z
DTEND:20240831T160000Z
X-MICROSOFT-CDO-ALLDAYEVENT:FALSE
SUMMARY:Cascading Carlos: The Juggler at the Freeman Arts Pavilion
DESCRIPTION:ADMISSION: FREE\n\nCascading Carlos is not a clown or magician but a Juggler! However\, he loves to clown around and create illusions with his Juggling. Learn the ancient art of Juggling with various props while he hypnotizes you with his Juggling skills. His talent to motivate through the art of Juggling helps to build self-esteem\, confidence\, and focus. Cascading Carlos always says   "The Art of Life is Learning How to Juggle it\, so let's go Juggle!"\n\nCarlos' performs for all ages and is geared for the family. However\, the danger is where he will take you. Juggling Fire rhythm sticks\, Fire Diabolo (Di-a-bolo) and Fire torches with a review of fire safety. The audience will be drawn into the act with humorous dialog and audience participation explanation on how to practice juggling with some home items and a bit of showmanship.
X-ALT-DESC;FMTTYPE=text/html:<h6>ADMISSION: FREE</h6>\n\n<p>Cascading Carlos is not a clown or magician but a Juggler! However\, he loves to clown around and create illusions with his Juggling. Learn the ancient art of Juggling with various props while he hypnotizes you with his Juggling skills. His talent to motivate through the art of Juggling helps to build self-esteem\, confidence\, and focus. Cascading Carlos always says &hellip\; &ldquo\;The Art of Life is Learning How to Juggle it\, so let&rsquo\;s go Juggle!&rdquo\;</p>\n\n<p>Carlos&rsquo\; performs for all ages and is geared for the family. However\, the danger is where he will take you. Juggling Fire rhythm sticks\, Fire Diabolo (Di-a-bolo) and Fire torches with a review of fire safety. The audience will be drawn into the act with humorous dialog and audience participation explanation on how to practice juggling with some home items and a bit of showmanship.</p>\n
LOCATION:Freeman Arts Pavilion 31806 Lake View Dr\, Selbyville\, DE 19975
UID:e.2126.29202
SEQUENCE:3
DTSTAMP:20260420T163756Z
URL:https://business.bethany-fenwick.org/events/details/cascading-carlos-the-juggler-at-the-freeman-arts-pavilion-29202
END:VEVENT

END:VCALENDAR
