BEGIN:VCALENDAR
VERSION:2.0
PRODID:-//ChamberMaster//Event Calendar 2.0//EN
METHOD:PUBLISH
X-PUBLISHED-TTL:P3D
REFRESH-INTERVAL:P3D
CALSCALE:GREGORIAN
BEGIN:VEVENT
DTSTART:20240831T230000Z
DTEND:20240901T020000Z
X-MICROSOFT-CDO-ALLDAYEVENT:FALSE
SUMMARY:Changes In Latitudes — America's Premiere Jimmy Buffett Tribute Show at the Freeman Arts Pavilion
DESCRIPTION:Tickets are $29+fees\n\nChildren 12 and under do not require a ticket and are free to attend.\n\nChanges In Latitudes is the country's premier tribute show to singer-songwriter Jimmy Buffett\, the master of the tropical lifestyle. This nationally acclaimed band travels the country with beach balls flying\, dancing conga lines\, and leis for all. They will take you to the ultimate beach party that's good\, clean fun for the entire family.\n\nComprised of world-class musicians\, and traveling with a full tropical stage setup\, Changes In Latitudes recreates the Jimmy Buffett concert experience with amazing authenticity. You can expect to hear such classics as "Margaritaville\," "Come Monday\," and\, of course\, "Changes In Latitudes\, Changes In Attitudes\," as well as other crowd-pleasing favorites\, like "Brown Eyed Girl\," "Southern Cross\," "Another Saturday Night\," and the Alan Jackson / Jimmy Buffett smash hit "It's Five O'clock Somewhere."\n\nIf you are feeling the need for a "Latitude Adjustment\," it's time for you to see Changes In Latitudes.
X-ALT-DESC;FMTTYPE=text/html:<p><strong>Tickets are $29+fees</strong></p>\n\n<p><em>Children 12 and under do not require a ticket and are free to attend.</em></p>\n\n<p>Changes In Latitudes is the country&#39\;s premier tribute show to singer-songwriter Jimmy Buffett\, the master of the tropical lifestyle. This nationally acclaimed band travels the country with beach balls flying\, dancing conga lines\, and leis for all. They will take you to the ultimate beach party that&rsquo\;s good\, clean fun for the entire family.</p>\n\n<p>Comprised of world-class musicians\, and traveling with a full tropical stage setup\, Changes In Latitudes recreates the Jimmy Buffett concert experience with amazing authenticity. You can expect to hear such classics as &ldquo\;Margaritaville\,&rdquo\; &ldquo\;Come Monday\,&rdquo\; and\, of course\, &ldquo\;Changes In Latitudes\, Changes In Attitudes\,&rdquo\; as well as other crowd-pleasing favorites\, like &ldquo\;Brown Eyed Girl\,&rdquo\; &ldquo\;Southern Cross\,&rdquo\; &ldquo\;Another Saturday Night\,&rdquo\; and the Alan Jackson / Jimmy Buffett smash hit &quot\;It&#39\;s Five O&#39\;clock Somewhere.&quot\;</p>\n\n<p>If you are feeling the need for a &quot\;Latitude Adjustment\,&quot\; it&rsquo\;s time for you to see Changes In Latitudes.</p>\n
LOCATION:Freeman Arts Pavilion 31806 Lake View Dr\, Selbyville\, DE 19975
UID:e.2126.28651
SEQUENCE:3
DTSTAMP:20260420T164026Z
URL:https://business.bethany-fenwick.org/events/details/changes-in-latitudes-america-s-premiere-jimmy-buffett-tribute-show-at-the-freeman-arts-pavilion-28651
END:VEVENT

END:VCALENDAR
