BEGIN:VCALENDAR
VERSION:2.0
PRODID:-//ChamberMaster//Event Calendar 2.0//EN
METHOD:PUBLISH
X-PUBLISHED-TTL:P3D
REFRESH-INTERVAL:P3D
CALSCALE:GREGORIAN
BEGIN:VEVENT
DTSTART:20250502T153000Z
DTEND:20250506T020000Z
X-MICROSOFT-CDO-ALLDAYEVENT:FALSE
SUMMARY:Cinco de Mayo - Come and Party at The Salted Rim
DESCRIPTION:Cinco de Mayo \n\nat\n\nThe Salted Rim Margarita Bar & Grille\n\nALL DAY & NIGHT\n\nALL WEEKEND\n\n\n\nFriday        May 2\n\nSaturday   May 3\n\nSunday      May 4\n\nMonday     May 5\n\n \n\nDining is on a first come\, first serve walk-in basis only.\n\n \n\n \n\nTons of\n\nFood Specials & Drink Specials\n\nEntertainment:\n\nFriday\, 5/2        -  5-8       Ocean Winds\n\n                         -  8-10      Homeskool Dropouts\n\nSaturday\, 5/3   -  6-9        Abriblu\n\n                         -  8-10      Soul Chase\n\nSunday\, 5/4     -  5-8        Danny Dolan Duo\n\nMonday\, 5/5     - 2-5:30   DJ Rupe\n\n                         - 6-9        Hot Sauce Band\n\n \n\n*Happy Hour not available Saturday 5/3 & Monday 5/5*\n\n*Specials Available While They Last!*
X-ALT-DESC;FMTTYPE=text/html:<div style="text-align:center"><em><span style="font-family:arial"><strong><span style="color:#FF0000"><span style="font-size:18.0pt">Cinco de Mayo </span></span><br />\n<span style="font-size:18px"><span style="color:#000000">at<br />\nThe Salted Rim Margarita Bar &amp\; Grille</span></span></strong></span></em></div>\n\n<div style="text-align:center"><span style="font-size:14px"><span style="font-family:arial"><span style="color:#00FF00"><strong>ALL DAY &amp\; NIGHT</strong></span></span></span><br />\n<strong><span style="color:#00FF00">ALL WEEKEND</span></strong><br />\n<br />\n<strong><span style="color:#DAA520">Friday&nbsp\; &nbsp\; &nbsp\; &bull\; May 2</span></strong><br />\n<span style="color:#DAA520"><strong>Saturday &bull\; May 3</strong><br />\n<strong>Sunday&nbsp\; &nbsp\; &bull\; May 4<br />\nMonday&nbsp\; &nbsp\;&bull\; May 5</strong></span></div>\n\n<div>&nbsp\;</div>\n\n<div style="text-align:center"><span style="font-size:12px">Dining is on a first come\, first serve walk-in basis only.</span><br />\n&nbsp\;</div>\n\n<div>&nbsp\;</div>\n\n<div style="text-align:center"><span style="color:#FF0000"><span style="font-family:arial"><strong><span style="font-size:14.0pt">Tons of<br />\nFood Specials &amp\;&nbsp\;</span></strong></span><strong><span style="font-size:14.0pt">Drink Specials</span></strong></span></div>\n\n<p><span style="font-family:arial"><strong><span style="color:#FF0000"><span style="font-size:14.0pt">Entertainment</span></span><span style="color:black"><span style="font-size:14.0pt">:</span></span></strong></span><br />\n<span style="font-family:arial\; font-size:14px"><strong>Friday\, 5/2&nbsp\;&nbsp\;</strong>&nbsp\; &nbsp\; &nbsp\; -&nbsp\; 5-8&nbsp\; &nbsp\; &nbsp\;&bull\; Ocean Winds<br />\n&nbsp\; &nbsp\; &nbsp\; &nbsp\; &nbsp\; &nbsp\; &nbsp\; &nbsp\; &nbsp\; &nbsp\; &nbsp\; &nbsp\; &nbsp\;-&nbsp\; 8-10&nbsp\; &nbsp\; &bull\; Homeskool Dropouts<br />\n<strong>Saturday\, 5/3&nbsp\;&nbsp\;</strong>&nbsp\;-&nbsp\; 6-9&nbsp\; &nbsp\; &nbsp\; &bull\; Abriblu<br />\n&nbsp\; &nbsp\; &nbsp\; &nbsp\; &nbsp\; &nbsp\; &nbsp\; &nbsp\; &nbsp\; &nbsp\; &nbsp\; &nbsp\; &nbsp\;-&nbsp\; 8-10&nbsp\; &nbsp\; &bull\; Soul Chase<br />\n<strong>Sunday\, 5/4&nbsp\;&nbsp\;</strong>&nbsp\; &nbsp\;-&nbsp\; 5-8&nbsp\; &nbsp\; &nbsp\; &bull\; Danny Dolan Duo<br />\n<strong>Monday\, 5/5&nbsp\; &nbsp\;&nbsp\;</strong>&nbsp\;- 2-5:30 &bull\; DJ Rupe<br />\n&nbsp\; &nbsp\; &nbsp\; &nbsp\; &nbsp\; &nbsp\; &nbsp\; &nbsp\; &nbsp\; &nbsp\; &nbsp\; &nbsp\; &nbsp\;- 6-9&nbsp\; &nbsp\; &nbsp\; &bull\; Hot Sauce Band</span></p>\n\n<p>&nbsp\;</p>\n\n<p style="text-align:center">*Happy Hour not available Saturday 5/3 &amp\; Monday 5/5*<br />\n*Specials Available While They Last!*</p>\n
LOCATION:The Salted Rim Margarita Bar & Grille 35553 Atlantic Avenue Millville\, DE 19967 302-537-7373
UID:e.2126.38251
SEQUENCE:3
DTSTAMP:20260422T143936Z
URL:https://business.bethany-fenwick.org/events/details/cinco-de-mayo-come-and-party-at-the-salted-rim-05-02-2025-38251
END:VEVENT

END:VCALENDAR
