BEGIN:VCALENDAR
VERSION:2.0
PRODID:-//ChamberMaster//Event Calendar 2.0//EN
METHOD:PUBLISH
X-PUBLISHED-TTL:P3D
REFRESH-INTERVAL:P3D
CALSCALE:GREGORIAN
BEGIN:VEVENT
DTSTART:20230922T223000Z
DTEND:20230923T013000Z
X-MICROSOFT-CDO-ALLDAYEVENT:FALSE
SUMMARY:Classic Movie Night and Car Show in John West Park: American Graffiti
DESCRIPTION:Come out to John West Park on Friday\, September 22\, for Ocean View's Classic Movie Night: American Graffiti!  This is the 50th Anniversary of 'American Graffiti' and will feature a classic car show\, 50's music\, and more.\n\n\n\nContact Carol Houck at chouck@oceanviewde.gov if you are interested in bringing your classic car for the show.\n\n\n\nThis is a FREE event\, and be sure to bring your lawn chairs!
X-ALT-DESC;FMTTYPE=text/html:Come out to John West Park on Friday\, September 22\, for Ocean View&#39\;s Classic Movie Night: American Graffiti!&nbsp\; This is the 50th Anniversary of &#39\;American Graffiti&#39\; and will feature a classic car show\, 50&#39\;s music\, and more.<br />\n<br />\nContact Carol Houck at chouck@oceanviewde.gov if you are interested in bringing your classic car for the show.<br />\n<br />\nThis is a FREE event\, and be sure to bring your lawn chairs!
LOCATION:John West Park 32 West Ave. Ocean View\, DE 19970
UID:e.2126.26607
SEQUENCE:3
DTSTAMP:20260420T225545Z
URL:https://business.bethany-fenwick.org/events/details/classic-movie-night-and-car-show-in-john-west-park-american-graffiti-26607
END:VEVENT

END:VCALENDAR
