BEGIN:VCALENDAR
VERSION:2.0
PRODID:-//ChamberMaster//Event Calendar 2.0//EN
METHOD:PUBLISH
X-PUBLISHED-TTL:P3D
REFRESH-INTERVAL:P3D
CALSCALE:GREGORIAN
BEGIN:VEVENT
DTSTART:20200829T210000Z
DTEND:20200829T220000Z
X-MICROSOFT-CDO-ALLDAYEVENT:FALSE
SUMMARY:Classic Stones Live: The Complete Rolling Stones Tribute Show
DESCRIPTION:Frontman Keith Call has all of the moves and swagger of Mick Jagger\, and along with his partner in crime Bernie Bollendorf\, who portrays rock 'n' roll outlaw Keith Richards\, they complete the duo notoriously hailed as "The Glimmer Twins." Their jaw-dropping resemblance to these two rock 'n' roll icons is simply amazing\, but what truly makes Classic Stones Live  unique\, is their musical prowess\, attention to detail\, and the spot-on renditions of all of your favorite Rolling Stones "classics." From the signature saxophone solo in Brown Sugar to the unforgettable backing vocals in Gimme Shelter\, every last detail has been accounted for by this eight-piece band. Classic Stones Live performs all of the songs that are staples of any Rolling Stones show in original tunings. Classic Stones Live captures the raw energy of the most electrifying performances throughout The Rolling Stones' career and recreates The Stones in their legendary prime. This is what makes Classic Stones Live the No. 1 Stones tribute in the world. Playing all of the hits that make up the soundtrack of many people's lives\, Classic Stones Live delivers a complete Rolling Stones experience every time.
X-ALT-DESC;FMTTYPE=text/html:<span style="font-size: 14px\;"><span style="font-family: arial\;">Frontman Keith Call has all of the moves and swagger of Mick Jagger\, and along with his partner in crime Bernie Bollendorf\, who portrays rock &#39\;n&#39\; roll outlaw Keith Richards\, they complete the duo notoriously hailed as &ldquo\;The Glimmer Twins.&quot\; Their jaw-dropping resemblance to these two rock &#39\;n&#39\; roll icons is simply amazing\, but what truly makes Classic Stones Live&trade\; unique\, is their musical prowess\, attention to detail\, and the spot-on renditions of all of your favorite Rolling Stones &ldquo\;classics.&rdquo\; From the signature saxophone solo in Brown Sugar to the unforgettable backing vocals in Gimme Shelter\, every last detail has been accounted for by this eight-piece band. Classic Stones Live performs all of the songs that are staples of any Rolling Stones show in original tunings. Classic Stones Live captures the raw energy of the most electrifying performances throughout The Rolling Stones&#39\; career and recreates The Stones in their legendary prime. This is what makes Classic Stones Live the No. 1 Stones tribute in the world. Playing all of the hits that make up the soundtrack of many people&rsquo\;s lives\, Classic Stones Live delivers a complete Rolling Stones experience every time.</span></span>
LOCATION:The Freeman Stage 31750 Lake View Drive Selbyville\, DE 19975
UID:e.2126.21742
SEQUENCE:3
DTSTAMP:20260425T162609Z
URL:https://business.bethany-fenwick.org/events/details/classic-stones-live-the-complete-rolling-stones-tribute-show-21742
END:VEVENT

END:VCALENDAR
