BEGIN:VCALENDAR
VERSION:2.0
PRODID:-//ChamberMaster//Event Calendar 2.0//EN
METHOD:PUBLISH
X-PUBLISHED-TTL:P3D
REFRESH-INTERVAL:P3D
CALSCALE:GREGORIAN
BEGIN:VEVENT
DTSTART:20250501T210000Z
DTEND:20250501T230000Z
X-MICROSOFT-CDO-ALLDAYEVENT:FALSE
SUMMARY:Coast Forward Open Hosue with Delaware Center for the Inland Bays
DESCRIPTION:Climate change\, with its associated more frequent storms\, hotter temperatures and rising sea levels will take a toll on our Inland Bays community\, and its increasing population. The Center for the Inland Bays has launched a two-year long Southern Delaware Coastal Resilience Plan\, to learn from the community what it wants to do about these changes it's facing. \n\nAs part of this effort\, the Center will host Coast Forward\, a one-day summit to listen to the community and share resources on how the Inland Bays will remain livable\, sustainable and resilient. \n\n\n	Learn more about resilience\n	Learn what the next storm could mean for you\n	Learn what living in the lowest lying portion of the lowest lying state means\n\n\nAn open house from 5-7 pm will share partner's resources with community members. The open house is free\, no registration required. \n\n\n\nFor more information\, contact Meghan Noe Fellows\, mnoefellows@inlandbays.org.
X-ALT-DESC;FMTTYPE=text/html:<p><span style="color:rgb(0\, 0\, 0)"><span style="font-family:arial\,sans-serif\; font-size:11pt">Climate change\, with its associated</span><span style="font-family:arial\,sans-serif\; font-size:11pt"> more frequent storms\, hotter temperatures and rising sea levels</span><span style="font-family:arial\,sans-serif\; font-size:11pt">&nbsp\;will take a toll on our Inland Bays community\, and its increasing population. </span><span style="font-family:arial\,sans-serif\; font-size:11pt">The</span><span style="font-family:arial\,sans-serif\; font-size:11pt">&nbsp\;Center for the Inland Bays has launched a two-year long Southern Delaware Coastal Resilience Plan\, to learn from the community what it wants to do about these changes it&rsquo\;s facing.&nbsp\;</span></span></p>\n\n<p><span style="color:rgb(0\, 0\, 0)"><span style="font-family:arial\,sans-serif\; font-size:11pt">As part of this effort\, the Center will host <em>Coast Forward</em>\, a one-day summit to listen to the community and share resources on how the Inland Bays will remain livable\, sustainable and resilient.&nbsp\;</span></span></p>\n\n<ul>\n	<li><span style="color:rgb(0\, 0\, 0)"><span style="font-family:arial\,sans-serif\; font-size:11pt">Learn more about resilience</span></span></li>\n	<li><span style="color:rgb(0\, 0\, 0)"><span style="font-family:arial\,sans-serif\; font-size:11pt">Learn what the next storm could mean for you</span></span></li>\n	<li><span style="color:rgb(0\, 0\, 0)"><span style="font-family:arial\,sans-serif\; font-size:11pt">Learn what living in the lowest lying portion of the lowest lying state means</span></span></li>\n</ul>\n\n<p><span style="color:rgb(0\, 0\, 0)\; font-family:arial\,sans-serif\; font-size:11pt">An open house from 5-7 pm will share partner&rsquo\;s resources with community members.&nbsp\;</span><span style="color:rgb(0\, 0\, 0)\; font-family:arial\,sans-serif\; font-size:11pt">The open house is free\, no registration required.&nbsp\;</span><br />\n<br />\n<span style="color:rgb(0\, 0\, 0)\; font-family:arial\,sans-serif\; font-size:11pt">For more information\, contact Meghan Noe Fellows\, </span><a href="mailto:mnoefellows@inlandbays.org" style="text-decoration: none\;"><u>mnoefellows@inlandbays.org</u></a><span style="color:rgb(0\, 0\, 0)\; font-family:arial\,sans-serif\; font-size:11pt">.</span></p>\n
LOCATION:CHEER Center Georgetown
UID:e.2126.38244
SEQUENCE:3
DTSTAMP:20260422T143306Z
URL:https://business.bethany-fenwick.org/events/details/coast-forward-open-hosue-with-delaware-center-for-the-inland-bays-38244
END:VEVENT

END:VCALENDAR
