BEGIN:VCALENDAR
VERSION:2.0
PRODID:-//ChamberMaster//Event Calendar 2.0//EN
METHOD:PUBLISH
X-PUBLISHED-TTL:P3D
REFRESH-INTERVAL:P3D
CALSCALE:GREGORIAN
BEGIN:VEVENT
DTSTART:20220820T130000Z
DTEND:20220820T200000Z
X-MICROSOFT-CDO-ALLDAYEVENT:FALSE
SUMMARY:Coastal Collectibles & Antiques Show
DESCRIPTION:Surround yourself with antique treasures\, and hard-to-find collectibles from all periods. Dealers chosen to participate in the show may offer a wide array of items from categories including Advertising\, Autographs\, Breweriana\, Coins & Currency\, Comic Books\, Memorabilia from Movies\, Music\, and Entertainment\, Postcards\, Posters and Prints\, Souvenirs and Travel\, Sports\, Stamps\, Tools and Hardware\,Toys and Dolls\,Trading Cards - sports and Non-sports\, Vinyl Records\, and more! Plan to spend the day\,and enjoy the festive atmosphere of our main campus whose historic buildings will be open to the public. The complex is surrounded by shade trees and gardens\, providing a beautiful backdrop for your visit. Enjoy live music and delicious food throughout the day. Don't miss this once-a-year event!
X-ALT-DESC;FMTTYPE=text/html:Surround yourself with antique treasures\, and hard-to-find collectibles from all periods. Dealers chosen to participate in the show may offer a wide array of items from categories including Advertising\, Autographs\, Breweriana\, Coins &amp\; Currency\, Comic Books\, Memorabilia from Movies\, Music\, and Entertainment\, Postcards\, Posters and Prints\, Souvenirs and Travel\, Sports\, Stamps\, Tools and Hardware\,Toys and Dolls\,Trading Cards - sports and Non-sports\, Vinyl Records\, and more! Plan to spend the day\,and enjoy the festive atmosphere of our main campus whose historic buildings will be open to the public. The complex is surrounded by shade trees and gardens\, providing a beautiful backdrop for your visit. Enjoy live music and delicious food throughout the day. Don&#39\;t miss this once-a-year event!
LOCATION:The Lewes Historical Society 110 Shipcarpenter Street Lewes
UID:e.2126.23837
SEQUENCE:3
DTSTAMP:20260421T204853Z
URL:https://business.bethany-fenwick.org/events/details/coastal-collectibles-antiques-show-23837
END:VEVENT

END:VCALENDAR
