BEGIN:VCALENDAR
VERSION:2.0
PRODID:-//ChamberMaster//Event Calendar 2.0//EN
METHOD:PUBLISH
X-PUBLISHED-TTL:P3D
REFRESH-INTERVAL:P3D
CALSCALE:GREGORIAN
BEGIN:VEVENT
DTSTART:20240201T230000Z
DTEND:20240202T010000Z
X-MICROSOFT-CDO-ALLDAYEVENT:FALSE
SUMMARY:Coastal Painting at Sorella Amore
DESCRIPTION:Coastal Paint Night\n\nJoin us Thursday\, February 1st at 6 PM for a fun coastal paint night. Ticket includes paint and all supplies plus some snacks.
X-ALT-DESC;FMTTYPE=text/html:<div>\n<h2 style="font-style:var(--font-heading-style)">Coastal Paint Night</h2>\n\n<p>Join us Thursday\, February 1st at 6 PM for a fun coastal paint night. Ticket includes paint and all supplies&nbsp\;plus some snacks.&nbsp\;</p>\n</div>\n
LOCATION:Sorella Amore 32630 Cedar Drive Millville\, DE 19967
UID:e.2126.28214
SEQUENCE:3
DTSTAMP:20260420T112948Z
URL:https://business.bethany-fenwick.org/events/details/coastal-painting-at-sorella-amore-28214
END:VEVENT

END:VCALENDAR
