BEGIN:VCALENDAR
VERSION:2.0
PRODID:-//ChamberMaster//Event Calendar 2.0//EN
METHOD:PUBLISH
X-PUBLISHED-TTL:P3D
REFRESH-INTERVAL:P3D
CALSCALE:GREGORIAN
BEGIN:VEVENT
DTSTART:20260717T220000Z
DTEND:20260718T000000Z
X-MICROSOFT-CDO-ALLDAYEVENT:FALSE
SUMMARY:Salem Church Community Block Party
DESCRIPTION:Salem Church in Selbyville is excited to announce that their annual community block parties are back this summer!\n\nEvery 3rd Friday in the summer months\, come out and enjoy food\, music\, games\, bounce houses\, face painting and other fun things that they have added along the way. In addition\, there will be a variety of community groups in attendance.\n\n\n\nEach event is free and open to the community!
X-ALT-DESC;FMTTYPE=text/html:<p><span style="font-size:16px\;"><span style="font-family:arial\;">Salem Church in Selbyville is excited to announce that their annual community block parties are back this summer!</span></span></p>\n\n<p><span style="font-size:16px\;"><span style="font-family:arial\;">Every 3rd Friday in the summer months\, come out and enjoy food\, music\, games\, bounce houses\, face painting and other fun things that they&nbsp\;have added along the way.&nbsp\;In addition\, there will be a variety of community groups in attendance.<br />\n<br />\nEach event is free and open to the community!</span></span></p>\n
LOCATION:
UID:e.2126.44031
SEQUENCE:3
DTSTAMP:20260421T220253Z
URL:https://business.bethany-fenwick.org/events/details/community-block-party-07-17-2026-44031
END:VEVENT

END:VCALENDAR
