BEGIN:VCALENDAR
VERSION:2.0
PRODID:-//ChamberMaster//Event Calendar 2.0//EN
METHOD:PUBLISH
X-PUBLISHED-TTL:P3D
REFRESH-INTERVAL:P3D
CALSCALE:GREGORIAN
BEGIN:VEVENT
DTSTART:20200804T120000Z
DTEND:20200804T190000Z
X-MICROSOFT-CDO-ALLDAYEVENT:FALSE
SUMMARY:Contractors For A Cause 7th Annual Golf Classic
DESCRIPTION:Mark your calendar and attend the 7th Annual Golf Classic (hosted by the Builders and Remodelers Association of Delaware Associates Council) at the Ocean City Golf Club to benefit the Annual Legacy Scholarship\, Helping Hands Project & the Believe In Tomorrow Children's Foundation on August 4\, 2020. For more information\, please contact Paolo Litterio at 410-352-9800 or at Paola@AllStatesConst.com\n\n\n\nRegistration\n\nTo download a registration form\, please click here\n\n\n\nPrice\n\n$125 per player if registered before July 15. $150 per player if registered after July 15. $450 for a team of four. This includes green fee\, golf cart and food/beverage.\n\n\n\nSponsorships\n\nHole sponsorships are available for $150. Food\, Beverage\, Golf Cart and Putting Green\n\nsponsorships are also available.\n\n\n\nFlyer\n\nFor a printable flyer\, please click here
X-ALT-DESC;FMTTYPE=text/html:<span style="font-family: arial\;"><span style="font-size: 14px\;">Mark your calendar and attend the 7th Annual Golf Classic (hosted by the Builders and Remodelers Association of Delaware Associates Council) at the Ocean City Golf Club to benefit the Annual Legacy Scholarship\, Helping Hands Project &amp\; the Believe In Tomorrow Children&#39\;s Foundation on August 4\, 2020. For more information\, please contact Paolo Litterio at 410-352-9800 or at <span style="mso-fareast-font-family: Calibri\; mso-fareast-theme-font: minor-latin\; mso-bidi-font-family: Calibri\; mso-ansi-language: EN-US\; mso-fareast-language: EN-US\; mso-bidi-language: AR-SA\;"><a target="_blank">Paola@AllStatesConst.com</a></span><br />\n<br />\n<strong>Registration</strong><br />\nTo download a registration form\, please <strong><a href="https://chambermaster.blob.core.windows.net/userfiles/UserFiles/chambers/2126/File/Community_Events/Contractors_For_A_Cause_Golf_Classic/2020/Registration2020.pdf" target="_blank">click here</a></strong><br />\n<br />\n<strong>Price</strong><br />\n$125 per player if registered before July 15. $150 per player if registered after July 15. $450 for a team of four. This includes green fee\, golf cart and food/beverage.<br />\n<br />\n<strong>Sponsorships</strong><br />\nHole sponsorships are available for $150. Food\, Beverage\, Golf Cart and Putting Green<br />\nsponsorships are also available.<br />\n<br />\n<strong>Flyer</strong><br />\nFor a printable flyer\, please <strong><a href="https://chambermaster.blob.core.windows.net/userfiles/UserFiles/chambers/2126/File/Community_Events/Contractors_For_A_Cause_Golf_Classic/2020/GolfFlyer2020.pdf" target="_blank">click here</a></strong></span></span><br />\n<br />\n&nbsp\;
LOCATION:Ocean City Golf Club 11401 Country Club Dr Berlin\, MD 21811
UID:e.2126.21673
SEQUENCE:3
DTSTAMP:20260425T161330Z
URL:https://business.bethany-fenwick.org/events/details/contractors-for-a-cause-7th-annual-golf-classic-21673
END:VEVENT

END:VCALENDAR
