BEGIN:VCALENDAR
VERSION:2.0
PRODID:-//ChamberMaster//Event Calendar 2.0//EN
METHOD:PUBLISH
X-PUBLISHED-TTL:P3D
REFRESH-INTERVAL:P3D
CALSCALE:GREGORIAN
BEGIN:VEVENT
DTSTART:20251207T190000Z
DTEND:20251207T210000Z
X-MICROSOFT-CDO-ALLDAYEVENT:FALSE
SUMMARY:Create & Sip Collage Christmas Tree at Shaka Shack
DESCRIPTION:Create a keepsake Christmas tree crafted in collage style\, using seashells\, beads\, and other treasures at Shaka Shack on Sunday\, December 7th from 2-4pm.
X-ALT-DESC;FMTTYPE=text/html:<span style="font-size:16px\;"><span style="color: rgb(49\, 49\, 49)\; font-family: -apple-system\, sans-serif\;">Create a keepsake Christmas tree crafted in collage style\, using seashells\, beads\, and other treasures at Shaka Shack on Sunday\, December 7th from 2-4pm.</span></span>
LOCATION:Shaka Shack
UID:e.2126.40963
SEQUENCE:3
DTSTAMP:20260422T012349Z
URL:https://business.bethany-fenwick.org/events/details/create-sip-collage-christmas-tree-at-shaka-shack-40963
END:VEVENT

END:VCALENDAR
