BEGIN:VCALENDAR
VERSION:2.0
PRODID:-//ChamberMaster//Event Calendar 2.0//EN
METHOD:PUBLISH
X-PUBLISHED-TTL:P3D
REFRESH-INTERVAL:P3D
CALSCALE:GREGORIAN
BEGIN:VEVENT
DTSTART:20250517T140000Z
DTEND:20250517T160000Z
X-MICROSOFT-CDO-ALLDAYEVENT:FALSE
SUMMARY:Creating a Hummingbird Haven with Ryan Revel
DESCRIPTION:Learn how to create a Hummingbird Haven with Ryan Revel at Inland Bays Garden Center in Frankford. Ryan uncovers what makes these tiny birds so unique. You'll be amazed at the number of traits they possess not found in any other bird. Learn how to attract hummingbirds to your garden with plants bursting with blooms and vibrant colors. You can also add feeders to your landscape and Ryan will share proper feeder food and care. Once you've established your "hummingbird haven" they will return year after year.\n\nRyan is a lifelong avid gardener. She graduated from Hood College with a BA in Biology and an MA in Secondary Education from Wilmington University. She was a science and math educator for over 25 years. Currently she serves on the Board of Directors at the Delaware Botanic Gardens. Ryan is a member of The Delaware Ornithological Society and Sussex Bird Club.\n\nAttendants will receive 20% off plants the day of class.
X-ALT-DESC;FMTTYPE=text/html:<p>&nbsp\;</p>\n\n<p>Learn how to create a Hummingbird Haven with Ryan Revel at Inland Bays Garden Center in Frankford. Ryan uncovers what makes these tiny birds so unique. You&rsquo\;ll be amazed at the number of traits they possess not found in any other bird. Learn how to attract hummingbirds to your garden with plants bursting with blooms and vibrant colors. You can also add feeders to your landscape and Ryan will share proper feeder food and care. Once you&rsquo\;ve established your &ldquo\;hummingbird haven&rdquo\; they will return year after year.</p>\n\n<p>Ryan is a lifelong avid gardener. She graduated from Hood College with a BA in Biology and an MA in Secondary Education from Wilmington University. She was a science and math educator for over 25 years. Currently she serves on the Board of Directors at the Delaware Botanic Gardens. Ryan is a member of The Delaware Ornithological Society and Sussex Bird Club.</p>\n\n<p>Attendants will receive 20% off plants the day of class.</p>\n
LOCATION:
UID:e.2126.38233
SEQUENCE:3
DTSTAMP:20260422T130905Z
URL:https://business.bethany-fenwick.org/events/details/creating-a-hummingbird-haven-with-ryan-revel-38233
END:VEVENT

END:VCALENDAR
