BEGIN:VCALENDAR
VERSION:2.0
PRODID:-//ChamberMaster//Event Calendar 2.0//EN
METHOD:PUBLISH
X-PUBLISHED-TTL:P3D
REFRESH-INTERVAL:P3D
CALSCALE:GREGORIAN
BEGIN:VEVENT
DTSTART:20260508T150000Z
DTEND:20260508T170000Z
X-MICROSOFT-CDO-ALLDAYEVENT:FALSE
SUMMARY:Creative Connections - Free Monthly Art Club
DESCRIPTION:Join the Art League of Ocean City for their Creative Connections Club  - a free monthly art club designed for individuals aged 60+ who believe that creativity has no retirement date.\n\nWhat to Expect:\n\nPeer-Led Inspiration: Each session kicks off with a curated presentation by fellow art lovers and instructors in the 60+ community\, covering everything from local history in art to modern techniques.\n\nMeaningful Connections: The second hour is dedicated to open conversation. It's a space to share ideas\, meet like-minded neighbors\, and forge new friendships over light refreshments.\n\nA Welcoming Atmosphere: Whether you are a lifelong artist or someone who has never been to a gallery\, this club is about the joy of discovery.\n\n \n\nIn this session:\n\nFilmmakers Joan Floyd and Doug Armstrong will talk about making a short film using an iPhone. Their film\, "That Seagull Story" was screened for the 2026 Ocean City Film Festival. Discover how to turn limitations into assets as you hear about story\, script\, locations\, cast\, crew rehearsal\, filming\, sound and editing.
X-ALT-DESC;FMTTYPE=text/html:<p><span style="font-size:16px\;"><span style="font-family:arial\;"><span style="background-color: transparent\; color: rgb(0\, 0\, 0)\;">Join the Art League of Ocean City for their Creative Connections Club&nbsp\; - a free monthly art club designed for individuals aged 60+ who believe that creativity has no retirement date.</span></span></span></p>\n\n<p><span style="font-size:16px\;"><span style="font-family:arial\;"><span style="background-color: transparent\; color: rgb(0\, 0\, 0)\;">What to Expect:</span></span></span></p>\n\n<p><span style="font-size:16px\;"><span style="font-family:arial\;"><span style="background-color: transparent\; color: rgb(0\, 0\, 0)\;">Peer-Led Inspiration: Each session kicks off with a curated presentation by fellow art lovers and instructors in the 60+ community\, covering everything from local history in art to modern techniques.</span></span></span></p>\n\n<p><span style="font-size:16px\;"><span style="font-family:arial\;"><span style="background-color: transparent\; color: rgb(0\, 0\, 0)\;">Meaningful Connections: The second hour is dedicated to open conversation. It&#39\;s a space to share ideas\, meet like-minded neighbors\, and forge new friendships over light refreshments.</span></span></span></p>\n\n<p><span style="font-size:16px\;"><span style="font-family:arial\;"><span style="background-color: transparent\; color: rgb(0\, 0\, 0)\;">A Welcoming Atmosphere: Whether you are a lifelong artist or someone who has never been to a gallery\, this club is about the joy of discovery.</span></span></span></p>\n\n<p><span style="font-size:16px\;"><span style="font-family:arial\;"><span style="background-color: transparent\; color: rgb(0\, 0\, 0)\;">&nbsp\;</span></span></span></p>\n\n<p><span style="font-size:16px\;"><span style="font-family:arial\;"><span style="background-color: transparent\; color: rgb(0\, 0\, 0)\;">In this session:</span></span></span></p>\n\n<p><span style="font-size:16px\;"><span style="font-family:arial\;"><span style="background-color: transparent\; color: rgb(0\, 0\, 0)\;">Filmmakers Joan Floyd and Doug Armstrong will talk about making a short film using an iPhone. Their film\, &quot\;That Seagull Story&quot\; was screened for the 2026 Ocean City Film Festival. Discover how to turn limitations into assets as you hear about story\, script\, locations\, cast\, crew rehearsal\, filming\, sound and editing.</span></span></span></p>\n\n<p>&nbsp\;</p>\n
LOCATION:
UID:e.2126.44039
SEQUENCE:3
DTSTAMP:20260421T111529Z
URL:https://business.bethany-fenwick.org/events/details/creative-connections-free-monthly-art-club-44039
END:VEVENT

END:VCALENDAR
