BEGIN:VCALENDAR
VERSION:2.0
PRODID:-//ChamberMaster//Event Calendar 2.0//EN
METHOD:PUBLISH
X-PUBLISHED-TTL:P3D
REFRESH-INTERVAL:P3D
CALSCALE:GREGORIAN
BEGIN:VEVENT
DTSTART:20260325T210000Z
DTEND:20260325T224500Z
X-MICROSOFT-CDO-ALLDAYEVENT:FALSE
SUMMARY:Crime Solvers with the South Coastal Library
DESCRIPTION:Are you a true crime lover or an aspiring detective? Join the Crime Solvers at the South Coastal Library in Bethany Beach for a tabletop game where you will use clues to solve fictional murders. \n\n\n\nFor ages 14 & Up. \n\n\n\nFree\, all materials provided.
X-ALT-DESC;FMTTYPE=text/html:<span style="font-size:16px"><span style="font-family:arial">Are you a true crime lover or an aspiring detective? Join the Crime Solvers at the South Coastal Library in Bethany Beach for a tabletop game where you will use clues to solve fictional murders.&nbsp\;<br />\n<br />\nFor ages 14 &amp\; Up.&nbsp\;<br />\n<br />\nFree\, all materials provided.</span></span>
LOCATION:
UID:e.2126.42338
SEQUENCE:3
DTSTAMP:20260421T082727Z
URL:https://business.bethany-fenwick.org/events/details/crime-solvers-with-the-south-coastal-library-42338
END:VEVENT

END:VCALENDAR
