BEGIN:VCALENDAR
VERSION:2.0
PRODID:-//ChamberMaster//Event Calendar 2.0//EN
METHOD:PUBLISH
X-PUBLISHED-TTL:P3D
REFRESH-INTERVAL:P3D
CALSCALE:GREGORIAN
BEGIN:VEVENT
DTSTART:20220721T150000Z
DTEND:20220721T173000Z
X-MICROSOFT-CDO-ALLDAYEVENT:FALSE
SUMMARY:DART Disadvantaged Enterprise Goal Workshop
DESCRIPTION:The Delaware Transit Corporation (DTC) has established the proposed Disadvantaged Business Enterprise Goal for Federal Fiscal Years 2023-2025 in accordance with the Code if Federal Regulations\, 49 CFR Part 26.\n\nDART workshop where the methodology used to create the goal will be presented.\n\nIf you can't attend the workshop the methodology is also available on DTC's website (www.DartFirstState.com).
X-ALT-DESC;FMTTYPE=text/html:The Delaware Transit Corporation (DTC) has established the proposed Disadvantaged Business Enterprise Goal for Federal Fiscal Years 2023-2025 in accordance with the Code if Federal Regulations\, 49 CFR Part 26.<br />\nDART workshop where the methodology used to create the goal will be presented.<br />\nIf you can&#39\;t attend the workshop the methodology is also available on DTC&#39\;s website (www.DartFirstState.com).
LOCATION:Delaware Transit Corporation 900 Public Safety Boulevard Dover\, DE 19901
UID:e.2126.23836
SEQUENCE:3
DTSTAMP:20260422T001100Z
URL:https://business.bethany-fenwick.org/events/details/dart-disadvantaged-enterprise-goal-workshop-23836
END:VEVENT

END:VCALENDAR
