BEGIN:VCALENDAR
VERSION:2.0
PRODID:-//ChamberMaster//Event Calendar 2.0//EN
METHOD:PUBLISH
X-PUBLISHED-TTL:P3D
REFRESH-INTERVAL:P3D
CALSCALE:GREGORIAN
BEGIN:VEVENT
DTSTART:20240215T220000Z
DTEND:20240216T010000Z
X-MICROSOFT-CDO-ALLDAYEVENT:FALSE
SUMMARY:Date Night at Board & Brush
DESCRIPTION:Looking for a fun date night idea? Join us for this special DIY workshop and create your own unique wood sign with your loved one! Select two wood projects from our gallery for the combined price of $125. We provide all the materials and instruct you step-by-step to create a beautiful piece for your home or for a gift. Choose from a variety of paint and wood stain colors in the workshop. Pre-registration is required. We look forward to seeing you soon!\n\n \n\nBoard & Brush Bethany Beach offers complimentary alcoholic beverages.\n\nPlease note\, BYOB is not permitted.\n\nhttps://boardandbrush.com/bethanybeach/events/pick-your-project-workshop-02-15-2024-5pm-8pm/
X-ALT-DESC;FMTTYPE=text/html:<div>Looking for a fun date night idea? Join us for this special DIY workshop and create your own unique wood sign with your loved one! Select two wood projects from our gallery for the combined price of $125. We provide all the materials and instruct you step-by-step to create a beautiful piece for your home or for a gift. Choose from a variety of paint and wood stain colors in the workshop. Pre-registration is required. We look forward to seeing you soon!<br />\n&nbsp\;</div>\n\n<div style="margin-left:auto !important\; margin-right:auto !important\; text-align:center">Board &amp\; Brush Bethany Beach offers complimentary alcoholic beverages.<br />\nPlease note\, BYOB is not permitted.<br />\nhttps://boardandbrush.com/bethanybeach/events/pick-your-project-workshop-02-15-2024-5pm-8pm/</div>\n
LOCATION:Board & Brush Bethany Beach 30447 Cedar Neck Road UNIT 2 Ocean View DE 19970
UID:e.2126.28222
SEQUENCE:3
DTSTAMP:20260420T123021Z
URL:https://business.bethany-fenwick.org/events/details/date-night-at-board-brush-02-15-2024-28222
END:VEVENT

END:VCALENDAR
