BEGIN:VCALENDAR
VERSION:2.0
PRODID:-//ChamberMaster//Event Calendar 2.0//EN
METHOD:PUBLISH
X-PUBLISHED-TTL:P3D
REFRESH-INTERVAL:P3D
CALSCALE:GREGORIAN
BEGIN:VEVENT
DTSTART:20230902T140000Z
DTEND:20230902T150000Z
X-MICROSOFT-CDO-ALLDAYEVENT:FALSE
SUMMARY:David Darwin — One Man Sideshow
DESCRIPTION:ADMISSION: FREE\n\nIt's Definitely Different! As Seen on "America's Got Talent\," David Darwin dares distinctly. With strange skills like sword swallowing and balancing chairs on his face\, he is "defying death on a daily basis\," according to the New York Times. Darwin has been seen on TV shows like "Last Call with Carson Daly" and "Late Late with James Corden." Audiences of all ages delight at seeing what he can do with fine china\, a feather\, and a unicycle. Break the mold of a typical show and share the surprise and delight of the unusual.\n\n \n\nDarwin has a style all his own. His situational humor clashes perfectly with amazing stunts making every show a hilarious success!\n\n \nFreeman Arts Pavilion Young Audience Series receives generous support from PNC Foundation:
X-ALT-DESC;FMTTYPE=text/html:<h6>ADMISSION: FREE</h6>\n\n<div>It&rsquo\;s Definitely Different! As Seen on &quot\;America&rsquo\;s Got Talent\,&quot\; David Darwin dares distinctly. With strange skills like sword swallowing and balancing chairs on his face\, he is &ldquo\;defying death on a daily basis\,&quot\; according to the New York Times. Darwin has been seen on TV shows like &quot\;Last Call with Carson Daly&quot\; and &quot\;Late Late with James Corden.&quot\; Audiences of all ages delight at seeing what he can do with fine china\, a feather\, and a unicycle. Break the mold of a typical show and share the surprise and delight of the unusual.</div>\n\n<div>&nbsp\;</div>\n\n<div>Darwin has a style all his own. His situational humor clashes perfectly with amazing stunts making every show a hilarious success!<br />\n&nbsp\;\n<p>Freeman Arts Pavilion Young Audience Series&nbsp\;receives generous support from PNC Foundation:</p>\n</div>\n
LOCATION:Freeman Arts Pavilion a program of the Joshua M. Freeman Foundation is a champion of the arts on Delmarva\, providing diverse arts performances as well as arts access programs for local schools and the community at large. From June-September the Freeman Arts Pavilion is an open-air performance space showcasing music\, dance\, comedy\, theater\, children's programs\, and free events.
UID:e.2126.26133
SEQUENCE:3
DTSTAMP:20260420T211553Z
URL:https://business.bethany-fenwick.org/events/details/david-darwin-one-man-sideshow-09-02-2023-26133
END:VEVENT

END:VCALENDAR
