BEGIN:VCALENDAR
VERSION:2.0
PRODID:-//ChamberMaster//Event Calendar 2.0//EN
METHOD:PUBLISH
X-PUBLISHED-TTL:P3D
REFRESH-INTERVAL:P3D
CALSCALE:GREGORIAN
BEGIN:VEVENT
DTSTART:20250523T230000Z
DTEND:20250524T010000Z
X-MICROSOFT-CDO-ALLDAYEVENT:FALSE
SUMMARY:Dickens Parlour Theatre-The Magic of Denny Corby
DESCRIPTION:How do you describe an indescribable show?  Go see Denny Corby yourself to understand how hard he brings the 'whaaat!?' factor! . You're in for an experience unlike any other.  Forget the outside world\, have a good laugh with strangers & friends\, and feel a genuine connection to a guy on stage who you haven't even met. Enjoy allowing your brain to wander and wonder\, while you feel like a kid again. There's Excitement. There's mystery. Also\, there's magic. BTW\, He was also on Penn & Tellers Fool Us!!
X-ALT-DESC;FMTTYPE=text/html:<p style="box-sizing: border-box\; margin: 0px\; padding: 0px\; font-family: Tahoma\, Geneva\, sans-serif\; font-size: 14px\; background-color: rgb(255\, 255\, 255)\;"><span style="box-sizing: border-box\; color: inherit\;">How do you describe an indescribable show?&nbsp\; Go see Denny Corby yourself to understand how hard he brings the &lsquo\;whaaat!?&rsquo\; factor! .&nbsp\;You&rsquo\;re in for an experience unlike any other.&nbsp\; Forget the outside world\, have a good laugh with strangers &amp\; friends\, and feel a genuine connection to a guy on stage who you haven&rsquo\;t even met.&nbsp\;Enjoy allowing your brain to wander and wonder\, while you feel like a kid again.&nbsp\;There&rsquo\;s Excitement. There&rsquo\;s mystery.&nbsp\;Also\, there&rsquo\;s magic.&nbsp\;BTW\,&nbsp\;He was also on Penn &amp\; Tellers Fool Us!!</span></p>\n
LOCATION:
UID:e.2126.38609
SEQUENCE:3
DTSTAMP:20260422T131859Z
URL:https://business.bethany-fenwick.org/events/details/dickens-parlour-theatre-the-magic-of-denny-corby-38609
END:VEVENT

END:VCALENDAR
