BEGIN:VCALENDAR
VERSION:2.0
PRODID:-//ChamberMaster//Event Calendar 2.0//EN
METHOD:PUBLISH
X-PUBLISHED-TTL:P3D
REFRESH-INTERVAL:P3D
CALSCALE:GREGORIAN
BEGIN:VEVENT
DTSTART:20251204T210000Z
DTEND:20251205T020000Z
X-MICROSOFT-CDO-ALLDAYEVENT:FALSE
SUMMARY:Dine and Donate for a Great Cause: Santa's Letters Inc. at Bethany Blues BBQ (Bethany Beach site)
DESCRIPTION:Dine & Donate for a Great Cause!\n\nJoin Bethany Blues BBQ (Bethany Beach site) on Thursday\, December 4th from 4 9 PM for a special "Dine & Donate" event benefiting Santa's Letters Inc.\, a local nonprofit dedicated to helping needy children and families all year long\, especially during the holiday season.\n\nIt's easy (and delicious!) to make a difference: Just present the event coupon to your server\, and 15% of your check will be donated directly to Santa's Letters Inc.\n\nEnjoy mouthwatering BBQ favorites while supporting a great cause that spreads hope and joy throughout our community.\n\n\n\nBethany Blues BBQ   Bethany Beach: 6 N. Pennsylvania Ave\, Bethany Beach\, DE 19930\n\nLearn more at santaslettersinc.com\n\nCome hungry and help make the holidays brighter for local families!
X-ALT-DESC;FMTTYPE=text/html:<p><strong>Dine &amp\; Donate for a Great Cause!</strong></p>\n\n<p>Join&nbsp\;<strong>Bethany Blues BBQ (Bethany Beach site)</strong>&nbsp\;on&nbsp\;<strong>Thursday\, December 4th from 4&ndash\;9 PM</strong>&nbsp\;for a special&nbsp\;<strong>&ldquo\;Dine &amp\; Donate&rdquo\;</strong>&nbsp\;event benefiting<strong>&nbsp\;Santa&rsquo\;s Letters Inc.</strong>\, a local nonprofit dedicated to helping needy children and families all year long\, especially during the holiday season.</p>\n\n<p>It&rsquo\;s easy (and delicious!) to make a difference: Just present the event coupon to your server\, and 15% of your check will be donated directly to Santa&rsquo\;s Letters Inc.</p>\n\n<p>Enjoy mouthwatering BBQ favorites while supporting a great cause that spreads hope and joy throughout our community.<br />\n<br />\n<strong>Bethany Blues BBQ &ndash\; Bethany Beach:&nbsp\;</strong>6&nbsp\;N.&nbsp\;Pennsylvania Ave\, Bethany Beach\, DE 19930</p>\n\n<p>Learn more at&nbsp\;<a href="https://santaslettersinc.com/">santaslettersinc.com</a></p>\n\n<p>Come hungry and help make the holidays brighter for local families!</p>\n
LOCATION:
UID:e.2126.41019
SEQUENCE:3
DTSTAMP:20260422T013012Z
URL:https://business.bethany-fenwick.org/events/details/dine-and-donate-for-a-great-cause-santa-s-letters-inc-at-bethany-blues-bbq-41019
END:VEVENT

END:VCALENDAR
