BEGIN:VCALENDAR
VERSION:2.0
PRODID:-//ChamberMaster//Event Calendar 2.0//EN
METHOD:PUBLISH
X-PUBLISHED-TTL:P3D
REFRESH-INTERVAL:P3D
CALSCALE:GREGORIAN
BEGIN:VEVENT
DTSTART:20251209T210000Z
DTEND:20251210T020000Z
X-MICROSOFT-CDO-ALLDAYEVENT:FALSE
SUMMARY:Dine and Donate for a Great Cause: Santa's Letters Inc. at Bethany Blues BBQ (Lewes site)
DESCRIPTION:Dine & Donate for a Great Cause!\n\nJoin Bethany Blues BBQ (Lewes location) on Tuesday\, December 9th from 4 9 PM for a special "Dine & Donate" event benefiting Santa's Letters Inc.\, a local nonprofit dedicated to helping needy children and families all year long\, especially during the holiday season.\n\nIt's easy (and delicious!) to make a difference: Just present the event coupon to your server\, and 15% of your check will be donated directly to Santa's Letters Inc.\n\nEnjoy mouthwatering BBQ favorites while supporting a great cause that spreads hope and joy throughout our community.\n\nBethany Blues BBQ   Lewes location: 18385 Coastal Hwy. Lewes\, DE 19958\n\nLearn more at santaslettersinc.com\n\nCome hungry and help make the holidays brighter for local families!
X-ALT-DESC;FMTTYPE=text/html:<p><strong>Dine &amp\; Donate for a Great Cause!</strong></p>\n\n<p>Join <strong>Bethany Blues BBQ (Lewes location)</strong>&nbsp\;on <strong>Tuesday\, December 9th from 4&ndash\;9 PM</strong> for a special &ldquo\;Dine &amp\; Donate&rdquo\; event benefiting <strong>Santa&rsquo\;s Letters Inc.</strong>\, a local nonprofit dedicated to helping needy children and families all year long\, especially during the holiday season.</p>\n\n<p>It&rsquo\;s easy (and delicious!) to make a difference: Just present the event coupon to your server\, and 15% of your check will be donated directly to Santa&rsquo\;s Letters Inc.</p>\n\n<p>Enjoy mouthwatering BBQ favorites while supporting a great cause that spreads hope and joy throughout our community.</p>\n\n<p><strong>Bethany Blues BBQ &ndash\; Lewes location:&nbsp\;</strong>18385 Coastal Hwy. Lewes\, DE 19958<br />\nLearn more at <a href="https://santaslettersinc.com/">santaslettersinc.com</a></p>\n\n<p>Come hungry and help make the holidays brighter for local families!</p>\n
LOCATION:Bethany Blues BBQ Lewes location
UID:e.2126.41020
SEQUENCE:3
DTSTAMP:20260422T014605Z
URL:https://business.bethany-fenwick.org/events/details/dine-and-donate-for-a-great-cause-santa-s-letters-inc-at-bethany-blues-bbq-lewes-location-41020
END:VEVENT

END:VCALENDAR
