BEGIN:VCALENDAR
VERSION:2.0
PRODID:-//ChamberMaster//Event Calendar 2.0//EN
METHOD:PUBLISH
X-PUBLISHED-TTL:P3D
REFRESH-INTERVAL:P3D
CALSCALE:GREGORIAN
BEGIN:VEVENT
DTSTART:20250501T140000Z
DTEND:20250502T003000Z
X-MICROSOFT-CDO-ALLDAYEVENT:FALSE
SUMMARY:Dine and Donate to Benefit FOSCL
DESCRIPTION:Eat at Good Earth Market or Flavor on Thursday\, May 1st and a portion of your bill will be donated to the Friends of the South Coastal Library. Enjoy a delicious meal and help support our community library.
X-ALT-DESC;FMTTYPE=text/html:Eat at Good Earth Market or Flavor on Thursday\, May 1st and a portion of your bill will be donated to the Friends of the South Coastal Library. Enjoy a delicious meal and help support our community library.
LOCATION:
UID:e.2126.38148
SEQUENCE:3
DTSTAMP:20260422T131018Z
URL:https://business.bethany-fenwick.org/events/details/dine-and-donate-to-benefit-foscl-38148
END:VEVENT

END:VCALENDAR
