BEGIN:VCALENDAR
VERSION:2.0
PRODID:-//ChamberMaster//Event Calendar 2.0//EN
METHOD:PUBLISH
X-PUBLISHED-TTL:P3D
REFRESH-INTERVAL:P3D
CALSCALE:GREGORIAN
BEGIN:VEVENT
DTSTART;VALUE=DATE:20240806
DTEND;VALUE=DATE:20240831
TRANSP:TRANSPARENT
X-MICROSOFT-CDO-ALLDAYEVENT:TRUE
SUMMARY:EDGE Small Business Owner Grant Competition
DESCRIPTION:Give Your Small Business an "EDGE" with funding from the Division of Small Business\n\n\n\nThe Division of Small Business is opening their Encouraging Development\, Growth and Expansion (EDGE) Program August. 1st!  \n\n\n\nEDGE is a competition for grant funding. Five STEM-based companies can each receive up to $100\,000 for eligible expenses while five Entrepreneur Class (non-STEM) businesses can each receive up to $50\,000.\n\n \n\nEligible businesses are those that have been in operation for less than seven years and have 10 or fewer full-time employees.\n\n\n\nLearn more at de.gov/edge.
X-ALT-DESC;FMTTYPE=text/html:<strong><span style="font-family:calibri\,sans-serif\;"><span style="font-size:12.0pt\;">Give Your Small Business an &ldquo\;EDGE&rdquo\; with funding from the Division of Small Business</span></span></strong><br />\n<br />\nThe Division of Small Business is opening their Encouraging Development\, Growth and Expansion (<strong>EDGE</strong>) Program August. 1st!&nbsp\;&nbsp\;<br />\n<br />\nEDGE is a competition for grant funding. Five STEM-based companies can each receive up to $100\,000 for eligible expenses while five Entrepreneur Class (non-STEM) businesses can each receive up to $50\,000.<br />\n&nbsp\;<br />\nEligible businesses are those that have been in operation for less than seven years and have 10 or fewer full-time employees.<br />\n<br />\n<span style="font-family:calibri\,sans-serif\;"><span style="font-size:12.0pt\;">Learn more at </span></span><span style="font-family:calibri\,sans-serif\;"><span style="font-size:11.0pt\;"><a href="https://business.delaware.gov/edge/"><span style="font-size:12.0pt\;">de.gov/edge</span></a>.</span></span>
LOCATION:Online
UID:e.2126.30798
SEQUENCE:3
DTSTAMP:20260420T163439Z
URL:https://business.bethany-fenwick.org/events/details/edge-small-business-owner-grant-competition-30798
END:VEVENT

END:VCALENDAR
